BEGIN:VCALENDAR
VERSION:2.0
PRODID:-//Cohasset Scouts BSA - ECPv6.15.12.2//NONSGML v1.0//EN
CALSCALE:GREGORIAN
METHOD:PUBLISH
X-ORIGINAL-URL:https://cohassetscoutsbsa.org
X-WR-CALDESC:Events for Cohasset Scouts BSA
REFRESH-INTERVAL;VALUE=DURATION:PT1H
X-Robots-Tag:noindex
X-PUBLISHED-TTL:PT1H
BEGIN:VTIMEZONE
TZID:America/New_York
BEGIN:DAYLIGHT
TZOFFSETFROM:-0500
TZOFFSETTO:-0400
TZNAME:EDT
DTSTART:20190310T070000
END:DAYLIGHT
BEGIN:STANDARD
TZOFFSETFROM:-0400
TZOFFSETTO:-0500
TZNAME:EST
DTSTART:20191103T060000
END:STANDARD
BEGIN:DAYLIGHT
TZOFFSETFROM:-0500
TZOFFSETTO:-0400
TZNAME:EDT
DTSTART:20200308T070000
END:DAYLIGHT
BEGIN:STANDARD
TZOFFSETFROM:-0400
TZOFFSETTO:-0500
TZNAME:EST
DTSTART:20201101T060000
END:STANDARD
BEGIN:DAYLIGHT
TZOFFSETFROM:-0500
TZOFFSETTO:-0400
TZNAME:EDT
DTSTART:20210314T070000
END:DAYLIGHT
BEGIN:STANDARD
TZOFFSETFROM:-0400
TZOFFSETTO:-0500
TZNAME:EST
DTSTART:20211107T060000
END:STANDARD
BEGIN:DAYLIGHT
TZOFFSETFROM:-0500
TZOFFSETTO:-0400
TZNAME:EDT
DTSTART:20220313T070000
END:DAYLIGHT
BEGIN:STANDARD
TZOFFSETFROM:-0400
TZOFFSETTO:-0500
TZNAME:EST
DTSTART:20221106T060000
END:STANDARD
BEGIN:DAYLIGHT
TZOFFSETFROM:-0500
TZOFFSETTO:-0400
TZNAME:EDT
DTSTART:20230312T070000
END:DAYLIGHT
BEGIN:STANDARD
TZOFFSETFROM:-0400
TZOFFSETTO:-0500
TZNAME:EST
DTSTART:20231105T060000
END:STANDARD
END:VTIMEZONE
BEGIN:VEVENT
DTSTART;TZID=America/New_York:20220426T180000
DTEND;TZID=America/New_York:20220426T190000
DTSTAMP:20260422T075555
CREATED:20220403T200032Z
LAST-MODIFIED:20220905T172238Z
UID:5410-1650996000-1650999600@cohassetscoutsbsa.org
SUMMARY:Troop 48 Meeting
DESCRIPTION:
URL:https://cohassetscoutsbsa.org/event/troop-48-meeting-2/
LOCATION:Deer Hill Scout Locker\, 208 Sohier Street\, Cohasset\, MA\, 02025\, United States
END:VEVENT
BEGIN:VEVENT
DTSTART;TZID=America/New_York:20220423T100000
DTEND;TZID=America/New_York:20220423T120000
DTSTAMP:20260422T075555
CREATED:20220415T023420Z
LAST-MODIFIED:20220905T172006Z
UID:5407-1650708000-1650715200@cohassetscoutsbsa.org
SUMMARY:Earth Day Cleanup - Service Hours Opportunity
DESCRIPTION:
URL:https://cohassetscoutsbsa.org/event/earth-day-cleanup-service-hours-opportunity/
LOCATION:Ingram Park Trail\, 44 Beechwood Street\, Cohasset\, 02025\, United States
END:VEVENT
BEGIN:VEVENT
DTSTART;TZID=America/New_York:20220412T100000
DTEND;TZID=America/New_York:20220412T130000
DTSTAMP:20260422T075555
CREATED:20220403T140058Z
LAST-MODIFIED:20220905T171819Z
UID:5405-1649757600-1649768400@cohassetscoutsbsa.org
SUMMARY:Clean Up Day
DESCRIPTION:We will do an Early “Earth Day” during this Troop evening as the “real” Earth day falls during April Vacation. This will count as service hours for those who attend.
URL:https://cohassetscoutsbsa.org/event/clean-up-day/
LOCATION:MA
END:VEVENT
BEGIN:VEVENT
DTSTART;TZID=America/New_York:20220407T190000
DTEND;TZID=America/New_York:20220407T200000
DTSTAMP:20260422T075555
CREATED:20220403T210038Z
LAST-MODIFIED:20220905T171638Z
UID:5403-1649358000-1649361600@cohassetscoutsbsa.org
SUMMARY:Troop 28 Meeting
DESCRIPTION:
URL:https://cohassetscoutsbsa.org/event/troop-28-meeting-2/
LOCATION:Deer Hill Scout Locker\, 208 Sohier Street\, Cohasset\, MA\, 02025\, United States
END:VEVENT
BEGIN:VEVENT
DTSTART;TZID=America/New_York:20220404T183000
DTEND;TZID=America/New_York:20220404T193000
DTSTAMP:20260422T075555
CREATED:20220404T002956Z
LAST-MODIFIED:20220905T171354Z
UID:5401-1649097000-1649100600@cohassetscoutsbsa.org
SUMMARY:Cub Scout Crossover
DESCRIPTION:
URL:https://cohassetscoutsbsa.org/event/cub-scout-crossover-2/
LOCATION:Deer Hill School\, 208 Sohier Street\, Cohasset\, MA\, 02025\, United States
END:VEVENT
BEGIN:VEVENT
DTSTART;TZID=America/New_York:20220403T100000
DTEND;TZID=America/New_York:20220403T120000
DTSTAMP:20260422T075555
CREATED:20220307T011301Z
LAST-MODIFIED:20220905T171222Z
UID:5398-1648980000-1648987200@cohassetscoutsbsa.org
SUMMARY:Troop 48: Escape Room
DESCRIPTION:
URL:https://cohassetscoutsbsa.org/event/troop-48-escape-room/
LOCATION:Boda Borg\, 90 Pleasant Street\, Malden\, MA\, 02148\, United States
END:VEVENT
BEGIN:VEVENT
DTSTART;TZID=America/New_York:20220402T090000
DTEND;TZID=America/New_York:20220402T161500
DTSTAMP:20260422T075555
CREATED:20220226T202036Z
LAST-MODIFIED:20220905T170952Z
UID:5396-1648890000-1648916100@cohassetscoutsbsa.org
SUMMARY:Mini MBU
DESCRIPTION:Mini MBU Details
URL:https://cohassetscoutsbsa.org/event/mini-mbu-2/
LOCATION:Deer Hill Scout Locker\, 208 Sohier Street\, Cohasset\, MA\, 02025\, United States
END:VEVENT
BEGIN:VEVENT
DTSTART;TZID=America/New_York:20220329T180000
DTEND;TZID=America/New_York:20220329T190000
DTSTAMP:20260422T075555
CREATED:20220403T161207Z
LAST-MODIFIED:20220905T170932Z
UID:5394-1648576800-1648580400@cohassetscoutsbsa.org
SUMMARY:Troop 48 Meeting
DESCRIPTION:Mr. Kisler (Assistant Scoutmaster of T28) teaching us about lashings. All should plan to attend this meeting as we will also discuss Merit Badge Choices for Summer Camp at Squanto.
URL:https://cohassetscoutsbsa.org/event/troop-48-meeting/
LOCATION:Deer Hill Scout Locker\, 208 Sohier Street\, Cohasset\, MA\, 02025\, United States
END:VEVENT
BEGIN:VEVENT
DTSTART;TZID=America/New_York:20220325T110000
DTEND;TZID=America/New_York:20220326T110000
DTSTAMP:20260422T075555
CREATED:20220311T012827Z
LAST-MODIFIED:20220905T170456Z
UID:5392-1648206000-1648292400@cohassetscoutsbsa.org
SUMMARY:Hingham Challenge Rocks
DESCRIPTION:
URL:https://cohassetscoutsbsa.org/event/hingham-challenge-rocks/
LOCATION:Challenge Rocks\, 3 Pond Park Road\, Hingham\, 02043\, United States
END:VEVENT
BEGIN:VEVENT
DTSTART;TZID=America/New_York:20220312T090000
DTEND;TZID=America/New_York:20220312T161500
DTSTAMP:20260422T075555
CREATED:20220226T201131Z
LAST-MODIFIED:20220905T170914Z
UID:5390-1647075600-1647101700@cohassetscoutsbsa.org
SUMMARY:Mini MBU
DESCRIPTION:Mini MBU Details
URL:https://cohassetscoutsbsa.org/event/mini-mbu/
LOCATION:Deer Hill Scout Locker\, 208 Sohier Street\, Cohasset\, MA\, 02025\, United States
END:VEVENT
BEGIN:VEVENT
DTSTART;TZID=America/New_York:20220310T190000
DTEND;TZID=America/New_York:20220310T200000
DTSTAMP:20260422T075555
CREATED:20220219T010755Z
LAST-MODIFIED:20220219T010755Z
UID:5245-1646938800-1646942400@cohassetscoutsbsa.org
SUMMARY:Troop 28 Meeting
DESCRIPTION:
URL:https://cohassetscoutsbsa.org/event/troop-28-meeting-3/
LOCATION:St. Anthony’s Parish Center\, 2 Summer Street\, Cohasset\, MA\, 02025\, United States
END:VEVENT
BEGIN:VEVENT
DTSTART;TZID=America/New_York:20220303T190000
DTEND;TZID=America/New_York:20220303T200000
DTSTAMP:20260422T075555
CREATED:20220219T010715Z
LAST-MODIFIED:20220219T010715Z
UID:5243-1646334000-1646337600@cohassetscoutsbsa.org
SUMMARY:Trrop 28 Meeting
DESCRIPTION:
URL:https://cohassetscoutsbsa.org/event/trrop-28-meeting/
LOCATION:St. Anthony’s Parish Center\, 2 Summer Street\, Cohasset\, MA\, 02025\, United States
END:VEVENT
BEGIN:VEVENT
DTSTART;TZID=America/New_York:20220217T190000
DTEND;TZID=America/New_York:20220217T200000
DTSTAMP:20260422T075555
CREATED:20220216T043350Z
LAST-MODIFIED:20220216T043350Z
UID:5069-1645124400-1645128000@cohassetscoutsbsa.org
SUMMARY:Troop 28 Meeting
DESCRIPTION:
URL:https://cohassetscoutsbsa.org/event/troop-28-meeting/
LOCATION:St. Anthony’s Parish Center\, 2 Summer Street\, Cohasset\, MA\, 02025\, United States
END:VEVENT
BEGIN:VEVENT
DTSTART;TZID=America/New_York:20220210T190000
DTEND;TZID=America/New_York:20220210T200000
DTSTAMP:20260422T075555
CREATED:20220226T202429Z
LAST-MODIFIED:20220905T171410Z
UID:5388-1644519600-1644523200@cohassetscoutsbsa.org
SUMMARY:Troop 28 Meeting
DESCRIPTION:
URL:https://cohassetscoutsbsa.org/event/troop-28-meeting-4/
LOCATION:Deer Hill Scout Locker\, 208 Sohier Street\, Cohasset\, MA\, 02025\, United States
END:VEVENT
BEGIN:VEVENT
DTSTART;TZID=America/New_York:20211214T193000
DTEND;TZID=America/New_York:20211214T203000
DTSTAMP:20260422T075555
CREATED:20211209T054820Z
LAST-MODIFIED:20211209T055945Z
UID:4989-1639510200-1639513800@cohassetscoutsbsa.org
SUMMARY:Troop 28: Court of Awards
DESCRIPTION:
URL:https://cohassetscoutsbsa.org/event/court-of-awards-12/
LOCATION:St. Anthony’s Parish Center\, 2 Summer Street\, Cohasset\, MA\, 02025\, United States
END:VEVENT
BEGIN:VEVENT
DTSTART;TZID=America/New_York:20211116T183000
DTEND;TZID=America/New_York:20211116T193000
DTSTAMP:20260422T075555
CREATED:20211209T055253Z
LAST-MODIFIED:20220219T010826Z
UID:4991-1637087400-1637091000@cohassetscoutsbsa.org
SUMMARY:Troop 48: Court of Awards
DESCRIPTION:
URL:https://cohassetscoutsbsa.org/event/court-of-awards-13/
LOCATION:Deer Hill Scout Locker\, 208 Sohier Street\, Cohasset\, MA\, 02025\, United States
END:VEVENT
BEGIN:VEVENT
DTSTART;TZID=America/New_York:20211020T150000
DTEND;TZID=America/New_York:20211020T170000
DTSTAMP:20260422T075555
CREATED:20211006T235137Z
LAST-MODIFIED:20220219T010933Z
UID:4664-1634742000-1634749200@cohassetscoutsbsa.org
SUMMARY:Wheelwright Pumpkin Patch
DESCRIPTION:Many hands are needed even if you can only help for 30 minutes and the more volunteers the quicker it is. This will be at Wheelwright.
URL:https://cohassetscoutsbsa.org/event/wheelwright-pumpkin-patch/
LOCATION:MA
END:VEVENT
BEGIN:VEVENT
DTSTART;TZID=America/New_York:20211016T110000
DTEND;TZID=America/New_York:20211017T100000
DTSTAMP:20260422T075555
CREATED:20211015T165047Z
LAST-MODIFIED:20220219T010933Z
UID:4667-1634382000-1634464800@cohassetscoutsbsa.org
SUMMARY:Wheelright Campout
DESCRIPTION:We will be arriving at 11 am on Saturday and soon after we will be departing. (Please be on time we will be waiting for you to arrive if you are signed up). We will sleep overnight and leave the campsite at 9:30 am Sunday and be ready for pickup in the parking lot by 10 am on Sunday.
URL:https://cohassetscoutsbsa.org/event/wheelright-campout/
LOCATION:MA
END:VEVENT
BEGIN:VEVENT
DTSTART;TZID=America/New_York:20211002T073000
DTEND;TZID=America/New_York:20211003T123000
DTSTAMP:20260422T075555
CREATED:20210927T213703Z
LAST-MODIFIED:20220219T010933Z
UID:4659-1633159800-1633264200@cohassetscoutsbsa.org
SUMMARY:Rail Trail
DESCRIPTION:Upcoming Rail trail campout at Nickerson State Park\, 3488 Main Street\, Brewster\, MA 02631. Please bring your own bikes. \n\n 
URL:https://cohassetscoutsbsa.org/event/rail-trail/
LOCATION:Nickerson State Park\, 3488 Main Street\, Brewster\, MA\, 02631\, United States
END:VEVENT
BEGIN:VEVENT
DTSTART;VALUE=DATE:20210527
DTEND;VALUE=DATE:20210529
DTSTAMP:20260422T075555
CREATED:20210502T231316Z
LAST-MODIFIED:20220219T010933Z
UID:4571-1622080800-1622167199@cohassetscoutsbsa.org
SUMMARY:Court of awards
DESCRIPTION:Upcoming virtual court of awards
URL:https://cohassetscoutsbsa.org/event/court-of-awards-11/
LOCATION:MA
END:VEVENT
BEGIN:VEVENT
DTSTART;VALUE=DATE:20210522
DTEND;VALUE=DATE:20210525
DTSTAMP:20260422T075555
CREATED:20210502T231431Z
LAST-MODIFIED:20220219T010933Z
UID:4573-1621648800-1621821599@cohassetscoutsbsa.org
SUMMARY:Wheelwright Camping Trip
DESCRIPTION:Upcoming wheelwright Camping trip\, check your email for times
URL:https://cohassetscoutsbsa.org/event/wheelwright-camping-trip-4/
LOCATION:MA
END:VEVENT
BEGIN:VEVENT
DTSTART;TZID=America/New_York:20210513T070000
DTEND;TZID=America/New_York:20210513T200000
DTSTAMP:20260422T075555
CREATED:20210502T231101Z
LAST-MODIFIED:20220219T010933Z
UID:4569-1620889200-1620936000@cohassetscoutsbsa.org
SUMMARY:SPL Election
DESCRIPTION:Upcoming SPL election: Candidates are Carl Fernald and Noah McDowall
URL:https://cohassetscoutsbsa.org/event/spl-election/
LOCATION:Deer Hill School\, 208 Sohier Street\, Cohasset\, MA\, 02025\, United States
END:VEVENT
BEGIN:VEVENT
DTSTART;TZID=America/New_York:20210410T110000
DTEND;TZID=America/New_York:20210411T100000
DTSTAMP:20260422T075555
CREATED:20210324T214644Z
LAST-MODIFIED:20220219T010933Z
UID:4544-1618052400-1618135200@cohassetscoutsbsa.org
SUMMARY:Wheelwright camping trip
DESCRIPTION:Upcoming wheelwright camping trip
URL:https://cohassetscoutsbsa.org/event/wheelwright-camping-trip-3/
LOCATION:Arthur Lehr Camp\, 200 N Main St\, Cohasset\, 02025\, United States
END:VEVENT
BEGIN:VEVENT
DTSTART;TZID=America/New_York:20210313T100000
DTEND;TZID=America/New_York:20210313T160000
DTSTAMP:20260422T075555
CREATED:20210211T012519Z
LAST-MODIFIED:20220219T010933Z
UID:4525-1615629600-1615651200@cohassetscoutsbsa.org
SUMMARY:Wheelwright virtual Freeze-out day trip
DESCRIPTION:Wheelwright Park day trip to participate in the Mayflower Council 2021 virtual Freeze-out.
URL:https://cohassetscoutsbsa.org/event/virtual-freeze-out-2021/
LOCATION:Arthur Lehr Camp\, 200 N Main St\, Cohasset\, 02025\, United States
END:VEVENT
BEGIN:VEVENT
DTSTART;TZID=America/New_York:20201217T190000
DTEND;TZID=America/New_York:20201217T200000
DTSTAMP:20260422T075555
CREATED:20201215T221941Z
LAST-MODIFIED:20220219T010933Z
UID:4511-1608231600-1608235200@cohassetscoutsbsa.org
SUMMARY:Court of Awards
DESCRIPTION:
URL:https://cohassetscoutsbsa.org/event/court-of-awards-10/
LOCATION:MA
END:VEVENT
BEGIN:VEVENT
DTSTART;TZID=America/New_York:20200712T100000
DTEND;TZID=America/New_York:20200718T110000
DTSTAMP:20260422T075555
CREATED:20200209T222435Z
LAST-MODIFIED:20220219T010933Z
UID:4450-1594548000-1595070000@cohassetscoutsbsa.org
SUMMARY:Camp Squanto
DESCRIPTION:
URL:https://cohassetscoutsbsa.org/event/camp-squanto-5/
LOCATION:Camp Squanto\, 200 Cuttersfield Rd.\, Plymouth\, MA\, 02360\, United States
END:VEVENT
BEGIN:VEVENT
DTSTART;TZID=America/New_York:20200530T080000
DTEND;TZID=America/New_York:20200531T170000
DTSTAMP:20260422T075555
CREATED:20200209T223628Z
LAST-MODIFIED:20220219T010933Z
UID:4473-1590825600-1590944400@cohassetscoutsbsa.org
SUMMARY:Georges Island Campout
DESCRIPTION:
URL:https://cohassetscoutsbsa.org/event/georges-island-campout-3/
LOCATION:Georges Island\, 30 Shipyard Drive\, Hingham\, MA\, 02043\, United States
END:VEVENT
BEGIN:VEVENT
DTSTART;TZID=America/New_York:20200430T190000
DTEND;TZID=America/New_York:20200430T201500
DTSTAMP:20260422T075555
CREATED:20200209T223354Z
LAST-MODIFIED:20220219T010933Z
UID:4471-1588273200-1588277700@cohassetscoutsbsa.org
SUMMARY:Troop Meeting
DESCRIPTION:
URL:https://cohassetscoutsbsa.org/event/troop-meeting-94/
LOCATION:Deer Hill Scout Locker\, 208 Sohier Street\, Cohasset\, MA\, 02025\, United States
END:VEVENT
BEGIN:VEVENT
DTSTART;TZID=America/New_York:20200416T190000
DTEND;TZID=America/New_York:20200416T201500
DTSTAMP:20260422T075555
CREATED:20200209T223327Z
LAST-MODIFIED:20220219T010933Z
UID:4469-1587063600-1587068100@cohassetscoutsbsa.org
SUMMARY:Troop Meeting
DESCRIPTION:This Troop Meeting was canceled due to COVID-19
URL:https://cohassetscoutsbsa.org/event/troop-meeting-93/
LOCATION:Deer Hill Scout Locker\, 208 Sohier Street\, Cohasset\, MA\, 02025\, United States
END:VEVENT
BEGIN:VEVENT
DTSTART;TZID=America/New_York:20200405T110000
DTEND;TZID=America/New_York:20200405T150000
DTSTAMP:20260422T075555
CREATED:20200209T223741Z
LAST-MODIFIED:20220219T010933Z
UID:4475-1586084400-1586098800@cohassetscoutsbsa.org
SUMMARY:Rotary Road Race
DESCRIPTION:
URL:https://cohassetscoutsbsa.org/event/rotary-road-race/
LOCATION:Road Race By the Sea\, 3 N. Main Street\, Cohasset\, MA\, 02025\, United States
END:VEVENT
END:VCALENDAR