BEGIN:VCALENDAR
VERSION:2.0
PRODID:-//Cohasset Scouts BSA - ECPv6.15.12.2//NONSGML v1.0//EN
CALSCALE:GREGORIAN
METHOD:PUBLISH
X-ORIGINAL-URL:https://cohassetscoutsbsa.org
X-WR-CALDESC:Events for Cohasset Scouts BSA
REFRESH-INTERVAL;VALUE=DURATION:PT1H
X-Robots-Tag:noindex
X-PUBLISHED-TTL:PT1H
BEGIN:VTIMEZONE
TZID:America/New_York
BEGIN:DAYLIGHT
TZOFFSETFROM:-0500
TZOFFSETTO:-0400
TZNAME:EDT
DTSTART:20150308T070000
END:DAYLIGHT
BEGIN:STANDARD
TZOFFSETFROM:-0400
TZOFFSETTO:-0500
TZNAME:EST
DTSTART:20151101T060000
END:STANDARD
BEGIN:DAYLIGHT
TZOFFSETFROM:-0500
TZOFFSETTO:-0400
TZNAME:EDT
DTSTART:20160313T070000
END:DAYLIGHT
BEGIN:STANDARD
TZOFFSETFROM:-0400
TZOFFSETTO:-0500
TZNAME:EST
DTSTART:20161106T060000
END:STANDARD
BEGIN:DAYLIGHT
TZOFFSETFROM:-0500
TZOFFSETTO:-0400
TZNAME:EDT
DTSTART:20170312T070000
END:DAYLIGHT
BEGIN:STANDARD
TZOFFSETFROM:-0400
TZOFFSETTO:-0500
TZNAME:EST
DTSTART:20171105T060000
END:STANDARD
END:VTIMEZONE
BEGIN:VEVENT
DTSTART;TZID=America/New_York:20160908T190000
DTEND;TZID=America/New_York:20160908T203000
DTSTAMP:20260423T093641
CREATED:20161006T233804Z
LAST-MODIFIED:20220219T011300Z
UID:3182-1473361200-1473366600@cohassetscoutsbsa.org
SUMMARY:Troop Meeting
DESCRIPTION:
URL:https://cohassetscoutsbsa.org/event/troop-meeting-12/
LOCATION:Deer Hill Scout Locker\, 208 Sohier Street\, Cohasset\, MA\, 02025\, United States
END:VEVENT
BEGIN:VEVENT
DTSTART;TZID=America/New_York:20160814T080000
DTEND;TZID=America/New_York:20160821T170000
DTSTAMP:20260423T093641
CREATED:20151218T060431Z
LAST-MODIFIED:20220219T011300Z
UID:673-1471161600-1471798800@cohassetscoutsbsa.org
SUMMARY:Iceland Trip
DESCRIPTION:Ulfljotsvatn Outdoor and Scout Center \nhttp://campiceland.com/
URL:https://cohassetscoutsbsa.org/event/iceland-trip/
LOCATION:Ulfljotsvatn Outdoor and Scout Center\, 801 Selfoss\, Úlfljótsvatn\, Iceland
END:VEVENT
BEGIN:VEVENT
DTSTART;TZID=America/New_York:20160724T100000
DTEND;TZID=America/New_York:20160730T110000
DTSTAMP:20260423T093641
CREATED:20151218T053423Z
LAST-MODIFIED:20220219T011300Z
UID:666-1469354400-1469876400@cohassetscoutsbsa.org
SUMMARY:Camp Squanto
DESCRIPTION:Camp Squanto 2016.pdf
URL:https://cohassetscoutsbsa.org/event/camp-squanto/
LOCATION:Camp Squanto\, 200 Cuttersfield Rd.\, Plymouth\, MA\, 02360\, United States
END:VEVENT
BEGIN:VEVENT
DTSTART;TZID=America/New_York:20160709T153000
DTEND;TZID=America/New_York:20160709T163000
DTSTAMP:20260423T093641
CREATED:20160514T111704Z
LAST-MODIFIED:20220219T011300Z
UID:2959-1468078200-1468081800@cohassetscoutsbsa.org
SUMMARY:Court of Honor - Dylan Marat
DESCRIPTION:
URL:https://cohassetscoutsbsa.org/event/court-of-honor-dylan-marat/
LOCATION:Second Congregational Church\, 43 Highland Avenue\, Cohasset\, MA\, 02025\, United States
END:VEVENT
BEGIN:VEVENT
DTSTART;TZID=America/New_York:20160628T193000
DTEND;TZID=America/New_York:20160628T203000
DTSTAMP:20260423T093641
CREATED:20160621T094308Z
LAST-MODIFIED:20220219T011300Z
UID:3098-1467142200-1467145800@cohassetscoutsbsa.org
SUMMARY:Camp Squanto meeting - Returning Campers
DESCRIPTION:To – All Camp Squanto 2016 campers.  \nMeeting – There will be a signup night on Tuesday\, June 28th at the Locker.  First time campers and a parent will come at 6:30 pm.  All other scouts and a parent should come at 7:30 pm. At the signup meeting\, we will collect the forms and checks for camp. This is what you need to know:  \nActivities and Merit Badges – new scouts will participate in the Flight to Eagle program.  That is a program designed for new scouts.  First year scouts from all troops in camp get together each morning from 9:00 am to Noon to work on rank requirements\, earn a merit badge and have fun.  This is an excellent program that our new scouts have participated in for years.  Also\, New scouts will take an additional handicraft merit badge in the afternoon.  I will walk you through the details at the meeting.  \nOlder scouts will recognize the attached merit badge schedule.  There are some changes this year\, including the elimination of the 4:00 pm to 5:00 pm merit badge block and new merit badges to choose from.  The Troop will provide each of you with some suggestions for merit badge programs based on your advancement situation\, but you are free to choose your own schedule.  We generally suggest three badges as the right number to leave room for other activities.  \nIf anyone is interested in the Camp’s new equestrian program\, please contact me.  It will be conducted in association with a riding facility/farm in Plymouth for three hours daily.  There is an extra charge.  \nUnlike prior years\, you DO NOT need to print out the merit badge forms for the meeting.  Please print out the attached Worksheet and fill in the badges you wish to take.  \nMedical Forms – we need your medical form with an up-to-date Part C from your doctor’s office and a copy of both sides of your insurance card.  The importance of having those forms in order cannot be overstated – scouts without a complete form cannot stay at camp.  If a scout is bringing prescription or OTC medications with him\, we will discuss exactly how those need to be packaged.  If you do not have a Part C updated with a current annual checkup\, please contact your pediatrician as soon as possible to schedule a checkup prior to camp.  \nCost – for first year scouts\, the cost is $400  If you would like a Troop photo\, please add $12.  The cost to scouts who have been in the Troop for at least a year is $210 (plus $12 for a photo) in recognition of your work at the RTF.  \nWe are looking forward to another great week at camp and encourage all scout to attend if you are able.  Like all Troop 28 activities\, cost should not be a barrier to participation.  If the cost is an issue\, please contact me or the Troop Committee Chairman\, Marty Thomae\, privately to discuss making it work.
URL:https://cohassetscoutsbsa.org/event/camp-squanto-meeting-returning-campers/
LOCATION:Deer Hill Scout Locker\, 208 Sohier Street\, Cohasset\, MA\, 02025\, United States
END:VEVENT
BEGIN:VEVENT
DTSTART;TZID=America/New_York:20160628T183000
DTEND;TZID=America/New_York:20160628T193000
DTSTAMP:20260423T093641
CREATED:20160621T094209Z
LAST-MODIFIED:20220219T011300Z
UID:3097-1467138600-1467142200@cohassetscoutsbsa.org
SUMMARY:First Time Camp Squanto Attendee Meeting
DESCRIPTION:To – All Camp Squanto 2016 campers.  \nMeeting – There will be a signup night on Tuesday\, June 28th at the Locker.  First time campers and a parent will come at 6:30 pm.  All other scouts and a parent should come at 7:30 pm. At the signup meeting\, we will collect the forms and checks for camp. This is what you need to know:  \nActivities and Merit Badges – new scouts will participate in the Flight to Eagle program.  That is a program designed for new scouts.  First year scouts from all troops in camp get together each morning from 9:00 am to Noon to work on rank requirements\, earn a merit badge and have fun.  This is an excellent program that our new scouts have participated in for years.  Also\, New scouts will take an additional handicraft merit badge in the afternoon.  I will walk you through the details at the meeting.  \nOlder scouts will recognize the attached merit badge schedule.  There are some changes this year\, including the elimination of the 4:00 pm to 5:00 pm merit badge block and new merit badges to choose from.  The Troop will provide each of you with some suggestions for merit badge programs based on your advancement situation\, but you are free to choose your own schedule.  We generally suggest three badges as the right number to leave room for other activities.  \nIf anyone is interested in the Camp’s new equestrian program\, please contact me.  It will be conducted in association with a riding facility/farm in Plymouth for three hours daily.  There is an extra charge.  \nUnlike prior years\, you DO NOT need to print out the merit badge forms for the meeting.  Please print out the attached Worksheet and fill in the badges you wish to take.  \nMedical Forms – we need your medical form with an up-to-date Part C from your doctor’s office and a copy of both sides of your insurance card.  The importance of having those forms in order cannot be overstated – scouts without a complete form cannot stay at camp.  If a scout is bringing prescription or OTC medications with him\, we will discuss exactly how those need to be packaged.  If you do not have a Part C updated with a current annual checkup\, please contact your pediatrician as soon as possible to schedule a checkup prior to camp.  \nCost – for first year scouts\, the cost is $400  If you would like a Troop photo\, please add $12.  The cost to scouts who have been in the Troop for at least a year is $210 (plus $12 for a photo) in recognition of your work at the RTF.  \nWe are looking forward to another great week at camp and encourage all scout to attend if you are able.  Like all Troop 28 activities\, cost should not be a barrier to participation.  If the cost is an issue\, please contact me or the Troop Committee Chairman\, Marty Thomae\, privately to discuss making it work.
URL:https://cohassetscoutsbsa.org/event/first-time-camp-squanto-attendee-meeting/
LOCATION:Deer Hill Scout Locker\, 208 Sohier Street\, Cohasset\, MA\, 02025\, United States
END:VEVENT
BEGIN:VEVENT
DTSTART;TZID=America/New_York:20160613T190000
DTEND;TZID=America/New_York:20160613T200000
DTSTAMP:20260423T093641
CREATED:20160313T235045Z
LAST-MODIFIED:20220219T011300Z
UID:2866-1465844400-1465848000@cohassetscoutsbsa.org
SUMMARY:Court of Awards
DESCRIPTION:Families welcome and encouraged to attend to celebrate the achievements of our scouts \nRefreshments and desserts will follow \n All Scouts should wear full Class A Uniforms (with blue Troop 28 neckerchief) and should arrive 10 minutes early
URL:https://cohassetscoutsbsa.org/event/court-of-awards-3/
LOCATION:St. Anthony’s Parish Center\, 2 Summer Street\, Cohasset\, MA\, 02025\, United States
END:VEVENT
BEGIN:VEVENT
DTSTART;TZID=America/New_York:20160611T090000
DTEND;TZID=America/New_York:20160612T170000
DTSTAMP:20260423T093641
CREATED:20160213T063220Z
LAST-MODIFIED:20220219T011300Z
UID:2581-1465635600-1465750800@cohassetscoutsbsa.org
SUMMARY:Georges Island Campout
DESCRIPTION:On Saturday\, please arrive at the Hingham Ship Yard at 10:15 am (sharp).  We will return on Sunday morning\, arriving at the shipyard at 10:40 am..  The cost of the boat is $17 round trip.  Please bring a check payable to “Troop 28 Cohasset” or cash.  A check is better.  Apart from the cost of the ticket\, the trip costs will be paid by the troop.  Please pack a lunch.  There may be a snack bar\, but I do not know if it has opened for the season. \nSince all of the Troop’s gear has to be carried on and off the boat\, please pack your personal gear in a backpack or duffel that you can carry and leave a hand or two free for Troop gear.  I will transport the gear from the locker to the shipyard\, and scouts will need to carry it on and off.  All food should be brought in closed containers (i.e.\, not plastic Stop and Shop bags) and coolers. \nPatrols should be certain that they have packed all tents and cooking gear they will need.  Seriously\, it’s an island. \nWe need everyone present in order to buy boat tickets\, and the boat can and does sell out.  Do not be late..
URL:https://cohassetscoutsbsa.org/event/georges-island-campout/
LOCATION:Georges Island\, 30 Shipyard Drive\, Hingham\, MA\, 02043\, United States
END:VEVENT
BEGIN:VEVENT
DTSTART;TZID=America/New_York:20160608T153000
DTEND;TZID=America/New_York:20160608T163000
DTSTAMP:20260423T093641
CREATED:20160605T145226Z
LAST-MODIFIED:20220219T011300Z
UID:2984-1465399800-1465403400@cohassetscoutsbsa.org
SUMMARY:Swim Test
DESCRIPTION:Each year every member of Troop 28 needs to have a swim test regardless of swimming ability–this is required for attending summer camp\, and needed for any water activities\, such as the canoe trips\, whitewater rafting trips\, etc.  We presently have two dates set up for swim tests– Tuesday\, June 7th\, starting at 2:30PM\, and Wednesday\, June 8th\, starting at 3:30PM\, both at the Rosens’ pool.  We will have a certified BSA lifeguard to administer the swim tests.   \n The actual swim test only takes a few minutes–each scout swims a few laps and treads water for a minute.  Please email Margie Hillman to let her know which day your scout will be coming or have them sign up at tomorrow night’s meeting.
URL:https://cohassetscoutsbsa.org/event/swim-test-2/
END:VEVENT
BEGIN:VEVENT
DTSTART;TZID=America/New_York:20160607T143000
DTEND;TZID=America/New_York:20160607T153000
DTSTAMP:20260423T093641
CREATED:20160605T145104Z
LAST-MODIFIED:20220219T011300Z
UID:2983-1465309800-1465313400@cohassetscoutsbsa.org
SUMMARY:Swim Test
DESCRIPTION:Each year every member of Troop 28 needs to have a swim test regardless of swimming ability–this is required for attending summer camp\, and needed for any water activities\, such as the canoe trips\, whitewater rafting trips\, etc.  We presently have two dates set up for swim tests– Tuesday\, June 7th\, starting at 2:30PM\, and Wednesday\, June 8th\, starting at 3:30PM\, both at the Rosens’ pool.  We will have a certified BSA lifeguard to administer the swim tests.   \n The actual swim test only takes a few minutes–each scout swims a few laps and treads water for a minute.  Please email Margie Hillman to let her know which day your scout will be coming or have them sign up at tomorrow night’s meeting.
URL:https://cohassetscoutsbsa.org/event/swim-test/
END:VEVENT
BEGIN:VEVENT
DTSTART;TZID=America/New_York:20160606T190000
DTEND;TZID=America/New_York:20160606T200000
DTSTAMP:20260423T093641
CREATED:20160201T180528Z
LAST-MODIFIED:20220219T011300Z
UID:803-1465239600-1465243200@cohassetscoutsbsa.org
SUMMARY:Troop Meeting
DESCRIPTION:
URL:https://cohassetscoutsbsa.org/event/troop-meeting-25/
LOCATION:Deer Hill Scout Locker\, 208 Sohier Street\, Cohasset\, MA\, 02025\, United States
END:VEVENT
BEGIN:VEVENT
DTSTART;TZID=America/New_York:20160605T103000
DTEND;TZID=America/New_York:20160605T133000
DTSTAMP:20260423T093641
CREATED:20160602T091738Z
LAST-MODIFIED:20220219T011300Z
UID:2972-1465122600-1465133400@cohassetscoutsbsa.org
SUMMARY:Eagle Scout Project - George Bryan
DESCRIPTION:Hi All\, \nThis Sunday (June 5th\, 10:30am-1:30pm) I will be working on phase three of my project. Scouts will be needed to help build 4 boardwalks\, which will be placed over wetlands and to walk the trail and clear any newly grown brush that wasn’t removed during phase two. \nI will meet everyone at Heritage Lane (located off Beechwood) at 10:30 am. If you can’t arrive at start time please call me and I will meet you and take you to the work site. \nPlease bring gloves\,clippers\,loppers\,and trimmers if owned. I will bring bug spray and advise everyone to wear long pants and shirts. \nGeorge
URL:https://cohassetscoutsbsa.org/event/eagle-scout-project-george-bryan/
LOCATION:George M. Ingram Park\, 63 Beechwood St\, Cohasset\, MA\, 02025\, United States
END:VEVENT
BEGIN:VEVENT
DTSTART;TZID=America/New_York:20160602T190000
DTEND;TZID=America/New_York:20160602T200000
DTSTAMP:20260423T093641
CREATED:20160201T180501Z
LAST-MODIFIED:20220219T011300Z
UID:802-1464894000-1464897600@cohassetscoutsbsa.org
SUMMARY:Troop Meeting
DESCRIPTION:
URL:https://cohassetscoutsbsa.org/event/troop-meeting-24/
LOCATION:Deer Hill Scout Locker\, 208 Sohier Street\, Cohasset\, MA\, 02025\, United States
END:VEVENT
BEGIN:VEVENT
DTSTART;TZID=America/New_York:20160530T100000
DTEND;TZID=America/New_York:20160530T130000
DTSTAMP:20260423T093641
CREATED:20160305T235030Z
LAST-MODIFIED:20220219T011300Z
UID:2800-1464602400-1464613200@cohassetscoutsbsa.org
SUMMARY:Memorial Day Parade
DESCRIPTION:
URL:https://cohassetscoutsbsa.org/event/memorial-day-parade/
LOCATION:South Shore Music Circus\, 130 Sohier St.\, Cohasset\, MA\, 02025\, United States
END:VEVENT
BEGIN:VEVENT
DTSTART;TZID=America/New_York:20160526T190000
DTEND;TZID=America/New_York:20160526T200000
DTSTAMP:20260423T093641
CREATED:20160201T180435Z
LAST-MODIFIED:20220219T011300Z
UID:801-1464289200-1464292800@cohassetscoutsbsa.org
SUMMARY:Troop Meeting
DESCRIPTION:
URL:https://cohassetscoutsbsa.org/event/troop-meeting-23/
LOCATION:Deer Hill Scout Locker\, 208 Sohier Street\, Cohasset\, MA\, 02025\, United States
END:VEVENT
BEGIN:VEVENT
DTSTART;TZID=America/New_York:20160521T080000
DTEND;TZID=America/New_York:20160521T170000
DTSTAMP:20260423T093641
CREATED:20160519T104129Z
LAST-MODIFIED:20220219T011300Z
UID:2962-1463817600-1463850000@cohassetscoutsbsa.org
SUMMARY:Garden Club's Annual Plant Sale
DESCRIPTION:Scouts will be helping with setting-up\, carrying plants to cars\, etc.  You do not need to wear your uniform\, but a Class B Troop 28 T-shirt would be perfect.   All scouts need to complete service hours for rank advancement–this is a great opportunity to help out and earn those hours (or just help because “a scout is helpful”).  There will be a sign-in sheet for all volunteers on Saturday
URL:https://cohassetscoutsbsa.org/event/garden-clubs-annual-plant-sale/
LOCATION:Cohasset Historical Society\, 106 South Main Street\, Cohasset\, MA\, 02025\, United States
END:VEVENT
BEGIN:VEVENT
DTSTART;TZID=America/New_York:20160519T190000
DTEND;TZID=America/New_York:20160519T200000
DTSTAMP:20260423T093641
CREATED:20160201T180401Z
LAST-MODIFIED:20220219T011300Z
UID:800-1463684400-1463688000@cohassetscoutsbsa.org
SUMMARY:Troop Meeting
DESCRIPTION:
URL:https://cohassetscoutsbsa.org/event/troop-meeting-22/
LOCATION:Deer Hill Scout Locker\, 208 Sohier Street\, Cohasset\, MA\, 02025\, United States
END:VEVENT
BEGIN:VEVENT
DTSTART;TZID=America/New_York:20160513T173000
DTEND;TZID=America/New_York:20160515T120000
DTSTAMP:20260423T093641
CREATED:20160201T183440Z
LAST-MODIFIED:20220219T011300Z
UID:805-1463160600-1463313600@cohassetscoutsbsa.org
SUMMARY:Spring Camporee
DESCRIPTION:At the Camporee\, our troop will be tenting and cooking in our own area at Camp Buxton.  During the day on Saturday\, there will be a competition between troops themed around basic scouting skills.  Our scouts\, grouped by patrols\, will participate in activities that include a Pioneering (including building a catapult)\, a First Aid relay\, trail signs and signals\, some sort of “river crossing” involving barrels and a piece of plywood.  It should be fun. \nALL scouts should download the outline of the skills.  The Troop will be going over these skills at the next three meetings\, along with planning for the campout and general advancement.
URL:https://cohassetscoutsbsa.org/event/camporee/
LOCATION:Camp Buxton\, 82 Pond St\, Rehoboth\, MA\, 02769\, United States
END:VEVENT
BEGIN:VEVENT
DTSTART;TZID=America/New_York:20160512T190000
DTEND;TZID=America/New_York:20160512T200000
DTSTAMP:20260423T093641
CREATED:20160201T180325Z
LAST-MODIFIED:20220219T011301Z
UID:799-1463079600-1463083200@cohassetscoutsbsa.org
SUMMARY:Troop Meeting
DESCRIPTION:
URL:https://cohassetscoutsbsa.org/event/troop-meeting-21/
LOCATION:Deer Hill Scout Locker\, 208 Sohier Street\, Cohasset\, MA\, 02025\, United States
END:VEVENT
BEGIN:VEVENT
DTSTART;TZID=America/New_York:20160508T140000
DTEND;TZID=America/New_York:20160508T150000
DTSTAMP:20260423T093641
CREATED:20160416T002238Z
LAST-MODIFIED:20220219T011301Z
UID:2934-1462716000-1462719600@cohassetscoutsbsa.org
SUMMARY:Court of Honor - Levente Haber
DESCRIPTION:
URL:https://cohassetscoutsbsa.org/event/court-of-honor-levente-haber/
LOCATION:Second Congregational Church\, 43 Highland Avenue\, Cohasset\, MA\, 02025\, United States
END:VEVENT
BEGIN:VEVENT
DTSTART;TZID=America/New_York:20160505T190000
DTEND;TZID=America/New_York:20160505T200000
DTSTAMP:20260423T093641
CREATED:20160201T180246Z
LAST-MODIFIED:20220219T011318Z
UID:798-1462474800-1462478400@cohassetscoutsbsa.org
SUMMARY:Troop Meeting
DESCRIPTION:
URL:https://cohassetscoutsbsa.org/event/troop-meeting-20/
LOCATION:Deer Hill Scout Locker\, 208 Sohier Street\, Cohasset\, MA\, 02025\, United States
END:VEVENT
BEGIN:VEVENT
DTSTART;TZID=America/New_York:20160430T100000
DTEND;TZID=America/New_York:20160430T120000
DTSTAMP:20260423T093641
CREATED:20160429T214347Z
LAST-MODIFIED:20220219T011318Z
UID:2945-1462010400-1462017600@cohassetscoutsbsa.org
SUMMARY:Straits Pond Clean-up Day
DESCRIPTION:Wanted Volunteers! \nPlease join other volunteers to help pick up all the winter-storm debris that now mars the shoreline\, walks\, and green areas along Straits Pond. As in the past\, we will have a dumpster available on Atlantic Avenue in Hull and a bump truck at the park across from Rocky Beach in Cohasset. \nStaging Areas to Meet: \n\nWadleigh Park at the intersection of Forest Avenue and Jerusalem Road in Cohasset\nOpposite 151 Atlantic Avenue in Hull\n\nTrash bags will be provided. Work gloves\, long pants\, long sleeves are suggested. \nGroups will also be clearing Rocky Beach\, ponds in Hingham\, the Weir River Estuary Center and surrounding grounds and Rockland street from west corner to George Washington Blvd. \nReward: Free Picnic with Ice Cream form Nona’s \n\nHigh noon at the Basketball Court / Playground on Atlantic Avenue in Hull across from the Pond
URL:https://cohassetscoutsbsa.org/event/straits-pond-clean-up-day/
LOCATION:Wadleigh Park\, Cohasset\, 02025\, United States
END:VEVENT
BEGIN:VEVENT
DTSTART;TZID=America/New_York:20160428T190000
DTEND;TZID=America/New_York:20160428T200000
DTSTAMP:20260423T093641
CREATED:20160201T180213Z
LAST-MODIFIED:20220219T011318Z
UID:797-1461870000-1461873600@cohassetscoutsbsa.org
SUMMARY:Troop Meeting
DESCRIPTION:
URL:https://cohassetscoutsbsa.org/event/troop-meeting-19/
LOCATION:Deer Hill Scout Locker\, 208 Sohier Street\, Cohasset\, MA\, 02025\, United States
END:VEVENT
BEGIN:VEVENT
DTSTART;TZID=America/New_York:20160414T190000
DTEND;TZID=America/New_York:20160414T200000
DTSTAMP:20260423T093641
CREATED:20160201T180145Z
LAST-MODIFIED:20220219T011318Z
UID:796-1460660400-1460664000@cohassetscoutsbsa.org
SUMMARY:Troop Meeting
DESCRIPTION:
URL:https://cohassetscoutsbsa.org/event/troop-meeting-18/
LOCATION:Deer Hill Scout Locker\, 208 Sohier Street\, Cohasset\, MA\, 02025\, United States
END:VEVENT
BEGIN:VEVENT
DTSTART;TZID=America/New_York:20160409T110000
DTEND;TZID=America/New_York:20160410T120000
DTSTAMP:20260423T093641
CREATED:20160201T183334Z
LAST-MODIFIED:20220219T011318Z
UID:804-1460199600-1460289600@cohassetscoutsbsa.org
SUMMARY:Wheelwright Park Camping Trip
DESCRIPTION:Details TBA
URL:https://cohassetscoutsbsa.org/event/wheelwright-park-camping-trip/
END:VEVENT
BEGIN:VEVENT
DTSTART;TZID=America/New_York:20160407T190000
DTEND;TZID=America/New_York:20160407T200000
DTSTAMP:20260423T093641
CREATED:20160201T180117Z
LAST-MODIFIED:20220219T011318Z
UID:795-1460055600-1460059200@cohassetscoutsbsa.org
SUMMARY:Troop Meeting
DESCRIPTION:
URL:https://cohassetscoutsbsa.org/event/troop-meeting-17/
LOCATION:Deer Hill Scout Locker\, 208 Sohier Street\, Cohasset\, MA\, 02025\, United States
END:VEVENT
BEGIN:VEVENT
DTSTART;TZID=America/New_York:20160403T120000
DTEND;TZID=America/New_York:20160403T150000
DTSTAMP:20260423T093641
CREATED:20160301T084539Z
LAST-MODIFIED:20220219T011318Z
UID:2794-1459684800-1459695600@cohassetscoutsbsa.org
SUMMARY:Road Race by the Sea
DESCRIPTION:Service Project
URL:https://cohassetscoutsbsa.org/event/road-race-by-the-sea/
LOCATION:South Shore Community Center\, 3 North Main Street\, Cohasset\, MA\, 02025\, United States
END:VEVENT
BEGIN:VEVENT
DTSTART;TZID=America/New_York:20160326T074500
DTEND;TZID=America/New_York:20160326T140000
DTSTAMP:20260423T093641
CREATED:20151106T165511Z
LAST-MODIFIED:20220219T011318Z
UID:47-1458978300-1459000800@cohassetscoutsbsa.org
SUMMARY:Merit Badge University (MBU)
DESCRIPTION:
URL:https://cohassetscoutsbsa.org/event/merit-badge-university/
LOCATION:Southeastern VoTech High School\, 250 Foundry Street \, South Easton\, MA\, 02375\, United States
END:VEVENT
BEGIN:VEVENT
DTSTART;TZID=America/New_York:20160324T190000
DTEND;TZID=America/New_York:20160324T200000
DTSTAMP:20260423T093641
CREATED:20160201T180017Z
LAST-MODIFIED:20220219T011318Z
UID:793-1458846000-1458849600@cohassetscoutsbsa.org
SUMMARY:Troop Meeting
DESCRIPTION:
URL:https://cohassetscoutsbsa.org/event/troop-meeting-15/
LOCATION:Deer Hill Scout Locker\, 208 Sohier Street\, Cohasset\, MA\, 02025\, United States
END:VEVENT
BEGIN:VEVENT
DTSTART;TZID=America/New_York:20160317T190000
DTEND;TZID=America/New_York:20160317T200000
DTSTAMP:20260423T093641
CREATED:20160201T175951Z
LAST-MODIFIED:20220219T011318Z
UID:792-1458241200-1458244800@cohassetscoutsbsa.org
SUMMARY:Troop Meeting - Paul Pratt Library
DESCRIPTION:The meeting this Thursday evening will include a presentation about the 2017 National Jamboree by a volunteer from the Council.  Scouts and parents are invited to attend and to learn more about this event.  The Jamboree is a peak scouting activity that is only held every four years.  All scouts in presently in the Troop are eligible to attend provided that they attain First Class rank by next July\, which is well within every scout’s reach. \nIn order to accommodate scouts and adults\, the meeting will be held at the new Recreation Department space under the Paul Pratt library.  The entrance is in the back of the building\, opposite the playground. \nIn addition to the Jamboree presentation\, there will be signups and planning relating to the Road Race (April 3); the Wheelwright Campout (April 9-10) and the Camporee (May 13-15).
URL:https://cohassetscoutsbsa.org/event/troop-meeting-14/
LOCATION:Paul Pratt Library\, 35 Ripley Rd\, Cohasset\, MA\, 02025\, United States
END:VEVENT
END:VCALENDAR