BEGIN:VCALENDAR
VERSION:2.0
PRODID:-//Cohasset Scouts BSA - ECPv6.15.12.2//NONSGML v1.0//EN
CALSCALE:GREGORIAN
METHOD:PUBLISH
X-WR-CALNAME:Cohasset Scouts BSA
X-ORIGINAL-URL:https://cohassetscoutsbsa.org
X-WR-CALDESC:Events for Cohasset Scouts BSA
REFRESH-INTERVAL;VALUE=DURATION:PT1H
X-Robots-Tag:noindex
X-PUBLISHED-TTL:PT1H
BEGIN:VTIMEZONE
TZID:America/New_York
BEGIN:DAYLIGHT
TZOFFSETFROM:-0500
TZOFFSETTO:-0400
TZNAME:EDT
DTSTART:20160313T070000
END:DAYLIGHT
BEGIN:STANDARD
TZOFFSETFROM:-0400
TZOFFSETTO:-0500
TZNAME:EST
DTSTART:20161106T060000
END:STANDARD
BEGIN:DAYLIGHT
TZOFFSETFROM:-0500
TZOFFSETTO:-0400
TZNAME:EDT
DTSTART:20170312T070000
END:DAYLIGHT
BEGIN:STANDARD
TZOFFSETFROM:-0400
TZOFFSETTO:-0500
TZNAME:EST
DTSTART:20171105T060000
END:STANDARD
BEGIN:DAYLIGHT
TZOFFSETFROM:-0500
TZOFFSETTO:-0400
TZNAME:EDT
DTSTART:20180311T070000
END:DAYLIGHT
BEGIN:STANDARD
TZOFFSETFROM:-0400
TZOFFSETTO:-0500
TZNAME:EST
DTSTART:20181104T060000
END:STANDARD
BEGIN:DAYLIGHT
TZOFFSETFROM:-0500
TZOFFSETTO:-0400
TZNAME:EDT
DTSTART:20190310T070000
END:DAYLIGHT
BEGIN:STANDARD
TZOFFSETFROM:-0400
TZOFFSETTO:-0500
TZNAME:EST
DTSTART:20191103T060000
END:STANDARD
END:VTIMEZONE
BEGIN:VEVENT
DTSTART;TZID=America/New_York:20180303T074500
DTEND;TZID=America/New_York:20180303T140000
DTSTAMP:20260422T231322
CREATED:20171130T150629Z
LAST-MODIFIED:20220219T011111Z
UID:3790-1520063100-1520085600@cohassetscoutsbsa.org
SUMMARY:Merit Badge University (MBU)
DESCRIPTION:
URL:https://cohassetscoutsbsa.org/event/merit-badge-university-mbu-4/
LOCATION:Southeastern VoTech High School\, 250 Foundry Street \, South Easton\, MA\, 02375\, United States
END:VEVENT
BEGIN:VEVENT
DTSTART;TZID=America/New_York:20180126T190000
DTEND;TZID=America/New_York:20180127T153000
DTSTAMP:20260422T231322
CREATED:20171130T125306Z
LAST-MODIFIED:20220219T011111Z
UID:3748-1516993200-1517067000@cohassetscoutsbsa.org
SUMMARY:2018 Klondike Derby
DESCRIPTION:
URL:https://cohassetscoutsbsa.org/event/klondike-derby-2/
LOCATION:Camp Squanto\, 200 Cuttersfield Rd.\, Plymouth\, MA\, 02360\, United States
END:VEVENT
BEGIN:VEVENT
DTSTART;TZID=America/New_York:20180112T170000
DTEND;TZID=America/New_York:20180114T170000
DTSTAMP:20260422T231322
CREATED:20171130T124917Z
LAST-MODIFIED:20220219T011111Z
UID:3746-1515776400-1515949200@cohassetscoutsbsa.org
SUMMARY:Ski Trip
DESCRIPTION:The Troop will be having a Ski Trip over Martin Luther King Day weekend again this year.  Participants will leave Cohasset on Friday afternoon/evening and drive to Greenwood\, Maine\, where we will be staying at the American Legion hall.  We will ski all day Saturday\, dine Chez Legion and return for skiing on Sunday until early afternoon.  We expect to be home by early evening on Sunday. \nThere will be a cost for this trip which will vary based on the number of participants.  In past years\, the troop has asked for $60 to cover transport\, food\, lodging and two days of lift tickets.  Equipment rentals and available lessons are extra. \nMount Abram is well-suited for a Troop ski trip.  It is a family and group-oriented facility with most trails ending at a common point.  Unlike larger mountains\, it is easy to keep track of our participants. \nAll levels of ability are welcome\, but brand-new skiers should come with a parent or families make an arrangement with another adult who is willing to work with them on the hills. \nWe need adults to drive and who are willing to ski with the scouts and provide a general presence on the mountain.  Neither Vince Thornton nor I will be able to attend\, so we will need someone to manage the paperwork\, and someone willing to manage the meals. \nIf you are a scout and interested in this trip\, please respond to this email.  This will not be a “binding” commitment\, but a general headcount. \nAdults who would like to attend should also respond directly to this email.  We really need a commitment for someone to coordinate the trip (manage the paperwork\, call the shots\, drink a lot of coffee) soon.  Frankly\, Sarah Peacock\, who coordinates our arrangements\, does it so thoroughly that the check-in and equipment coordination is easy. \nPlease email me with questions. \nRDH
URL:https://cohassetscoutsbsa.org/event/ski-trip-2/
LOCATION:Mt. Abram\, 308 Howe Hill Road\, Greenwood\, ME\, 04255 \, United States
END:VEVENT
BEGIN:VEVENT
DTSTART;TZID=America/New_York:20171212T190000
DTEND;TZID=America/New_York:20171212T200000
DTSTAMP:20260422T231322
CREATED:20171130T123256Z
LAST-MODIFIED:20220219T011111Z
UID:3732-1513105200-1513108800@cohassetscoutsbsa.org
SUMMARY:Court of Awards
DESCRIPTION:Please join Boy Scout Troop 28 Cohasset for its COURT OF AWARDS \non \nTuesday\, December 12th at 7:00PM \nat \nSt. Anthony’s Parish Center \n10 Summer Street \nCohasset\, MA \nFamilies welcome and encouraged to attend to celebrate the achievements of our scouts \nRefreshments and desserts will follow \nAll Scouts should wear full Class A Uniforms (with blue Troop 28 neckerchief) and should arrive 10 minutes early
URL:https://cohassetscoutsbsa.org/event/court-of-awards-5/
LOCATION:St. Anthony’s Parish Center\, 2 Summer Street\, Cohasset\, MA\, 02025\, United States
END:VEVENT
BEGIN:VEVENT
DTSTART;TZID=America/New_York:20171207T190000
DTEND;TZID=America/New_York:20171207T201500
DTSTAMP:20260422T231322
CREATED:20171130T124015Z
LAST-MODIFIED:20220219T011111Z
UID:3740-1512673200-1512677700@cohassetscoutsbsa.org
SUMMARY:Troop Meeting
DESCRIPTION:Patrol elections
URL:https://cohassetscoutsbsa.org/event/troop-meeting-63/
LOCATION:Deer Hill Scout Locker\, 208 Sohier Street\, Cohasset\, MA\, 02025\, United States
END:VEVENT
BEGIN:VEVENT
DTSTART;TZID=America/New_York:20171130T190000
DTEND;TZID=America/New_York:20171130T201500
DTSTAMP:20260422T231322
CREATED:20171130T123922Z
LAST-MODIFIED:20220219T011111Z
UID:3738-1512068400-1512072900@cohassetscoutsbsa.org
SUMMARY:Troop Meeting
DESCRIPTION:Please bring your scout handbooks we only have 2 meetings until the court of awards. \nThe meeting after next\, 12/7\, will be our patrol elections.
URL:https://cohassetscoutsbsa.org/event/troop-meeting-62/
LOCATION:Deer Hill Scout Locker\, 208 Sohier Street\, Cohasset\, MA\, 02025\, United States
END:VEVENT
BEGIN:VEVENT
DTSTART;TZID=America/New_York:20171116T190000
DTEND;TZID=America/New_York:20171116T201500
DTSTAMP:20260422T231322
CREATED:20171130T123707Z
LAST-MODIFIED:20220219T011111Z
UID:3736-1510858800-1510863300@cohassetscoutsbsa.org
SUMMARY:Troop Meeting
DESCRIPTION:Please bring you books. \nThere will be a PLC meeting after.
URL:https://cohassetscoutsbsa.org/event/troop-meeting-61/
LOCATION:Deer Hill Scout Locker\, 208 Sohier Street\, Cohasset\, MA\, 02025\, United States
END:VEVENT
BEGIN:VEVENT
DTSTART;TZID=America/New_York:20171104T080000
DTEND;TZID=America/New_York:20171105T120000
DTSTAMP:20260422T231322
CREATED:20170815T105632Z
LAST-MODIFIED:20220219T011111Z
UID:3701-1509782400-1509883200@cohassetscoutsbsa.org
SUMMARY:Wheelwright
DESCRIPTION:
URL:https://cohassetscoutsbsa.org/event/wheelwright-2/
LOCATION:Arthur Lehr Camp\, 200 N Main St\, Cohasset\, 02025\, United States
END:VEVENT
BEGIN:VEVENT
DTSTART;TZID=America/New_York:20171102T190000
DTEND;TZID=America/New_York:20171102T201500
DTSTAMP:20260422T231322
CREATED:20171130T123555Z
LAST-MODIFIED:20220219T011111Z
UID:3734-1509649200-1509653700@cohassetscoutsbsa.org
SUMMARY:Troop Meeting
DESCRIPTION:Please come prepared to plan for Wheelwright. Please also bring you Handbooks.
URL:https://cohassetscoutsbsa.org/event/troop-meeting-60/
LOCATION:Deer Hill Scout Locker\, 208 Sohier Street\, Cohasset\, MA\, 02025\, United States
END:VEVENT
BEGIN:VEVENT
DTSTART;TZID=America/New_York:20171020T080000
DTEND;TZID=America/New_York:20171022T170000
DTSTAMP:20260422T231322
CREATED:20170815T105550Z
LAST-MODIFIED:20220219T011111Z
UID:3699-1508486400-1508691600@cohassetscoutsbsa.org
SUMMARY:Camporee
DESCRIPTION:
URL:https://cohassetscoutsbsa.org/event/camporee-2/
LOCATION:MA
END:VEVENT
BEGIN:VEVENT
DTSTART;TZID=America/New_York:20171012T190000
DTEND;TZID=America/New_York:20171012T201500
DTSTAMP:20260422T231322
CREATED:20170918T201546Z
LAST-MODIFIED:20220219T011136Z
UID:3715-1507834800-1507839300@cohassetscoutsbsa.org
SUMMARY:Troop Meeting
DESCRIPTION:PLC
URL:https://cohassetscoutsbsa.org/event/troop-meeting-59/
LOCATION:MA
END:VEVENT
BEGIN:VEVENT
DTSTART;TZID=America/New_York:20171005T190000
DTEND;TZID=America/New_York:20171005T201500
DTSTAMP:20260422T231322
CREATED:20170918T201459Z
LAST-MODIFIED:20220219T011136Z
UID:3713-1507230000-1507234500@cohassetscoutsbsa.org
SUMMARY:Troop Meeting
DESCRIPTION:
URL:https://cohassetscoutsbsa.org/event/troop-meeting-55/
LOCATION:MA
END:VEVENT
BEGIN:VEVENT
DTSTART;TZID=America/New_York:20170930T080000
DTEND;TZID=America/New_York:20171001T150000
DTSTAMP:20260422T231322
CREATED:20170815T105417Z
LAST-MODIFIED:20220219T011136Z
UID:3697-1506758400-1506870000@cohassetscoutsbsa.org
SUMMARY:Cape Cod Rail Trail
DESCRIPTION:
URL:https://cohassetscoutsbsa.org/event/cape-cod-rail-trail-2/
LOCATION:Nickerson State Park\, 3488 Main Street\, Brewster\, MA\, 02631\, United States
END:VEVENT
BEGIN:VEVENT
DTSTART;TZID=America/New_York:20170928T190000
DTEND;TZID=America/New_York:20170928T201500
DTSTAMP:20260422T231322
CREATED:20170918T201405Z
LAST-MODIFIED:20220219T011136Z
UID:3711-1506625200-1506629700@cohassetscoutsbsa.org
SUMMARY:Troop Meeting
DESCRIPTION:
URL:https://cohassetscoutsbsa.org/event/troop-meeting-53/
LOCATION:MA
END:VEVENT
BEGIN:VEVENT
DTSTART;TZID=America/New_York:20170921T190000
DTEND;TZID=America/New_York:20170921T201500
DTSTAMP:20260422T231322
CREATED:20170918T201306Z
LAST-MODIFIED:20220219T011136Z
UID:3709-1506020400-1506024900@cohassetscoutsbsa.org
SUMMARY:Troop meeting
DESCRIPTION:
URL:https://cohassetscoutsbsa.org/event/troop-meeting-51/
LOCATION:MA
END:VEVENT
BEGIN:VEVENT
DTSTART;TZID=America/New_York:20170916T080000
DTEND;TZID=America/New_York:20170917T170000
DTSTAMP:20260422T231322
CREATED:20170615T235829Z
LAST-MODIFIED:20220219T011136Z
UID:3524-1505548800-1505667600@cohassetscoutsbsa.org
SUMMARY:Georges Island
DESCRIPTION:
URL:https://cohassetscoutsbsa.org/event/georges-island/
LOCATION:Georges Island\, 30 Shipyard Drive\, Hingham\, MA\, 02043\, United States
END:VEVENT
BEGIN:VEVENT
DTSTART;TZID=America/New_York:20170914T190000
DTEND;TZID=America/New_York:20170914T203000
DTSTAMP:20260422T231322
CREATED:20170616T004208Z
LAST-MODIFIED:20220219T011136Z
UID:3530-1505415600-1505421000@cohassetscoutsbsa.org
SUMMARY:Troop Meeting
DESCRIPTION:Pack for trip
URL:https://cohassetscoutsbsa.org/event/troop-meeting-56/
LOCATION:Deer Hill Scout Locker\, 208 Sohier Street\, Cohasset\, MA\, 02025\, United States
END:VEVENT
BEGIN:VEVENT
DTSTART;TZID=America/New_York:20170831T190000
DTEND;TZID=America/New_York:20170831T200000
DTSTAMP:20260422T231322
CREATED:20170616T002337Z
LAST-MODIFIED:20220219T011136Z
UID:3526-1504206000-1504209600@cohassetscoutsbsa.org
SUMMARY:Troop Meeting
DESCRIPTION:Advancement\nLeave No Trace Lecture\nDodge ball
URL:https://cohassetscoutsbsa.org/event/troop-meeting-54/
LOCATION:Deer Hill Scout Locker\, 208 Sohier Street\, Cohasset\, MA\, 02025\, United States
END:VEVENT
BEGIN:VEVENT
DTSTART;TZID=America/New_York:20170723T100000
DTEND;TZID=America/New_York:20170729T110000
DTSTAMP:20260422T231322
CREATED:20161206T191542Z
LAST-MODIFIED:20220219T011136Z
UID:3324-1500804000-1501326000@cohassetscoutsbsa.org
SUMMARY:Camp Squanto
DESCRIPTION:
URL:https://cohassetscoutsbsa.org/event/camp-squanto-2/
LOCATION:Camp Squanto\, 200 Cuttersfield Rd.\, Plymouth\, MA\, 02360\, United States
END:VEVENT
BEGIN:VEVENT
DTSTART;VALUE=DATE:20170719
DTEND;VALUE=DATE:20170730
DTSTAMP:20260422T231322
CREATED:20160310T032333Z
LAST-MODIFIED:20220219T011136Z
UID:2815-1500429600-1501293599@cohassetscoutsbsa.org
SUMMARY:2017 BSA National Jamboree
DESCRIPTION:The Jamboree is a peak scouting experience.  It is held at the BSA’s Summit Reservation in West Virginia with nearly 50\,000 scouts from all over the country.  In addition\, the trip is part of the adventure.  There will be a stop at Gettysburg on the way down and Hershey Park on the way back.  More information is available here – www.jamboree.oldcolonycouncil.org \nTo be eligible to attend the 2017 Jamboree\, a scout must be 12 years old by the first day of the trip and have attained First Class Rank.
URL:https://cohassetscoutsbsa.org/event/bsa-national-jamboree/
LOCATION:Nat’l Jamboree – The Summit Bechtel Reserve\, 2550 Jack Furst Drive\,  Glen Jean\, WV\, 25846\, United States
END:VEVENT
BEGIN:VEVENT
DTSTART;TZID=America/New_York:20170624T100000
DTEND;TZID=America/New_York:20170625T100000
DTSTAMP:20260422T231322
CREATED:20170512T003430Z
LAST-MODIFIED:20220219T011136Z
UID:3507-1498298400-1498384800@cohassetscoutsbsa.org
SUMMARY:Blue Hills
DESCRIPTION:
URL:https://cohassetscoutsbsa.org/event/blue-hills/
LOCATION:New England Base Camp\, 411 Unquity Road\, Milton\, MA\, 02186\, United States
END:VEVENT
BEGIN:VEVENT
DTSTART;TZID=America/New_York:20170622T190000
DTEND;TZID=America/New_York:20170622T200000
DTSTAMP:20260422T231322
CREATED:20170612T003725Z
LAST-MODIFIED:20220219T011136Z
UID:3513-1498158000-1498161600@cohassetscoutsbsa.org
SUMMARY:Secret Troop Meeting for Blue Hills
DESCRIPTION:
URL:https://cohassetscoutsbsa.org/event/secrete-troop-meeting-for-blue-hills/
LOCATION:Deer Hill Scout Locker\, 208 Sohier Street\, Cohasset\, MA\, 02025\, United States
END:VEVENT
BEGIN:VEVENT
DTSTART;TZID=America/New_York:20170613T190000
DTEND;TZID=America/New_York:20170613T200000
DTSTAMP:20260422T231322
CREATED:20170808T133500Z
LAST-MODIFIED:20220219T011136Z
UID:3573-1497380400-1497384000@cohassetscoutsbsa.org
SUMMARY:Court of Awards
DESCRIPTION:
URL:https://cohassetscoutsbsa.org/event/court-of-awards-4/
LOCATION:St. Anthony’s Parish Center\, 2 Summer Street\, Cohasset\, MA\, 02025\, United States
END:VEVENT
BEGIN:VEVENT
DTSTART;TZID=America/New_York:20170606T190000
DTEND;TZID=America/New_York:20170606T200000
DTSTAMP:20260422T231322
CREATED:20170808T133836Z
LAST-MODIFIED:20220219T011136Z
UID:3577-1496775600-1496779200@cohassetscoutsbsa.org
SUMMARY:Troop Meeting
DESCRIPTION:
URL:https://cohassetscoutsbsa.org/event/troop-meeting-58/
LOCATION:Deer Hill Scout Locker\, 208 Sohier Street\, Cohasset\, MA\, 02025\, United States
END:VEVENT
BEGIN:VEVENT
DTSTART;TZID=America/New_York:20170601T190000
DTEND;TZID=America/New_York:20170601T200000
DTSTAMP:20260422T231322
CREATED:20170808T133759Z
LAST-MODIFIED:20220219T011136Z
UID:3575-1496343600-1496347200@cohassetscoutsbsa.org
SUMMARY:Troop Meeting
DESCRIPTION:
URL:https://cohassetscoutsbsa.org/event/troop-meeting-57/
LOCATION:Deer Hill Scout Locker\, 208 Sohier Street\, Cohasset\, MA\, 02025\, United States
END:VEVENT
BEGIN:VEVENT
DTSTART;TZID=America/New_York:20170525T190000
DTEND;TZID=America/New_York:20170525T203000
DTSTAMP:20260422T231322
CREATED:20170512T003312Z
LAST-MODIFIED:20220219T011136Z
UID:3505-1495738800-1495744200@cohassetscoutsbsa.org
SUMMARY:Troop Meting
DESCRIPTION:Iron Chef Planning\nAdvancement\nDodge ball/Frisbee
URL:https://cohassetscoutsbsa.org/event/troop-meting/
LOCATION:Deer Hill Scout Locker\, 208 Sohier Street\, Cohasset\, MA\, 02025\, United States
END:VEVENT
BEGIN:VEVENT
DTSTART;TZID=America/New_York:20170520T080000
DTEND;TZID=America/New_York:20170520T170000
DTSTAMP:20260422T231322
CREATED:20170512T002606Z
LAST-MODIFIED:20220219T011136Z
UID:3503-1495267200-1495299600@cohassetscoutsbsa.org
SUMMARY:Fishing Trip
DESCRIPTION:
URL:https://cohassetscoutsbsa.org/event/fishing-trip/
LOCATION:MA
END:VEVENT
BEGIN:VEVENT
DTSTART;TZID=America/New_York:20170517T190000
DTEND;TZID=America/New_York:20170517T200000
DTSTAMP:20260422T231322
CREATED:20170512T002509Z
LAST-MODIFIED:20220219T011136Z
UID:3501-1495047600-1495051200@cohassetscoutsbsa.org
SUMMARY:Troop Meeting
DESCRIPTION:Advancement\n“English Football” (soccer)
URL:https://cohassetscoutsbsa.org/event/troop-meeting-48/
LOCATION:Deer Hill Scout Locker\, 208 Sohier Street\, Cohasset\, MA\, 02025\, United States
END:VEVENT
BEGIN:VEVENT
DTSTART;TZID=America/New_York:20170512T070000
DTEND;TZID=America/New_York:20170512T200000
DTSTAMP:20260422T231322
CREATED:20170512T003710Z
LAST-MODIFIED:20220219T011136Z
UID:3511-1494572400-1494619200@cohassetscoutsbsa.org
SUMMARY:Troop Meeting
DESCRIPTION:
URL:https://cohassetscoutsbsa.org/event/troop-meeting-52/
LOCATION:Deer Hill Scout Locker\, 208 Sohier Street\, Cohasset\, MA\, 02025\, United States
END:VEVENT
BEGIN:VEVENT
DTSTART;TZID=America/New_York:20170413T190000
DTEND;TZID=America/New_York:20170413T200000
DTSTAMP:20260422T231322
CREATED:20170310T012023Z
LAST-MODIFIED:20220219T011136Z
UID:3469-1492110000-1492113600@cohassetscoutsbsa.org
SUMMARY:Troop Meeting
DESCRIPTION:PLC\nNew scouts choose name\nAdvancement
URL:https://cohassetscoutsbsa.org/event/troop-meeting-50/
LOCATION:Deer Hill Scout Locker\, 208 Sohier Street\, Cohasset\, MA\, 02025\, United States
END:VEVENT
END:VCALENDAR