BEGIN:VCALENDAR
VERSION:2.0
PRODID:-//Cohasset Scouts BSA - ECPv6.15.12.2//NONSGML v1.0//EN
CALSCALE:GREGORIAN
METHOD:PUBLISH
X-WR-CALNAME:Cohasset Scouts BSA
X-ORIGINAL-URL:https://cohassetscoutsbsa.org
X-WR-CALDESC:Events for Cohasset Scouts BSA
REFRESH-INTERVAL;VALUE=DURATION:PT1H
X-Robots-Tag:noindex
X-PUBLISHED-TTL:PT1H
BEGIN:VTIMEZONE
TZID:America/New_York
BEGIN:DAYLIGHT
TZOFFSETFROM:-0500
TZOFFSETTO:-0400
TZNAME:EDT
DTSTART:20160313T070000
END:DAYLIGHT
BEGIN:STANDARD
TZOFFSETFROM:-0400
TZOFFSETTO:-0500
TZNAME:EST
DTSTART:20161106T060000
END:STANDARD
BEGIN:DAYLIGHT
TZOFFSETFROM:-0500
TZOFFSETTO:-0400
TZNAME:EDT
DTSTART:20170312T070000
END:DAYLIGHT
BEGIN:STANDARD
TZOFFSETFROM:-0400
TZOFFSETTO:-0500
TZNAME:EST
DTSTART:20171105T060000
END:STANDARD
BEGIN:DAYLIGHT
TZOFFSETFROM:-0500
TZOFFSETTO:-0400
TZNAME:EDT
DTSTART:20180311T070000
END:DAYLIGHT
BEGIN:STANDARD
TZOFFSETFROM:-0400
TZOFFSETTO:-0500
TZNAME:EST
DTSTART:20181104T060000
END:STANDARD
BEGIN:DAYLIGHT
TZOFFSETFROM:-0500
TZOFFSETTO:-0400
TZNAME:EDT
DTSTART:20190310T070000
END:DAYLIGHT
BEGIN:STANDARD
TZOFFSETFROM:-0400
TZOFFSETTO:-0500
TZNAME:EST
DTSTART:20191103T060000
END:STANDARD
END:VTIMEZONE
BEGIN:VEVENT
DTSTART;TZID=America/New_York:20180722T100000
DTEND;TZID=America/New_York:20180728T110000
DTSTAMP:20260422T200601
CREATED:20180322T034150Z
LAST-MODIFIED:20220219T011051Z
UID:3867-1532253600-1532775600@cohassetscoutsbsa.org
SUMMARY:Camp Squanto
DESCRIPTION:
URL:https://cohassetscoutsbsa.org/event/camp-squanto-3/
LOCATION:Camp Squanto\, 200 Cuttersfield Rd.\, Plymouth\, MA\, 02360\, United States
END:VEVENT
BEGIN:VEVENT
DTSTART;TZID=America/New_York:20180611T190000
DTEND;TZID=America/New_York:20180611T200000
DTSTAMP:20260422T200601
CREATED:20180322T034029Z
LAST-MODIFIED:20220219T011051Z
UID:3865-1528743600-1528747200@cohassetscoutsbsa.org
SUMMARY:Court of Awards
DESCRIPTION:
URL:https://cohassetscoutsbsa.org/event/court-of-awards-6/
LOCATION:St. Anthony’s Parish Center\, 2 Summer Street\, Cohasset\, MA\, 02025\, United States
END:VEVENT
BEGIN:VEVENT
DTSTART;VALUE=DATE:20180609
DTEND;VALUE=DATE:20180612
DTSTAMP:20260422T200601
CREATED:20180322T033948Z
LAST-MODIFIED:20220219T011051Z
UID:3862-1528509600-1528682399@cohassetscoutsbsa.org
SUMMARY:Peddocks Island Camping Trip
DESCRIPTION:
URL:https://cohassetscoutsbsa.org/event/peddocks-island-camping-trip/
LOCATION:Peddocks Island\, 180 Main Street\, Hull\, MA\, 02045\, United States
END:VEVENT
BEGIN:VEVENT
DTSTART;TZID=America/New_York:20180605T190000
DTEND;TZID=America/New_York:20180605T201500
DTSTAMP:20260422T200601
CREATED:20180322T033640Z
LAST-MODIFIED:20220219T011051Z
UID:3860-1528225200-1528229700@cohassetscoutsbsa.org
SUMMARY:Troop Meeting - Boards of Review
DESCRIPTION:Pedix Island Planning
URL:https://cohassetscoutsbsa.org/event/troop-meeting-boards-of-review-2/
LOCATION:Deer Hill Scout Locker\, 208 Sohier Street\, Cohasset\, MA\, 02025\, United States
END:VEVENT
BEGIN:VEVENT
DTSTART;TZID=America/New_York:20180529T190000
DTEND;TZID=America/New_York:20180529T201500
DTSTAMP:20260422T200601
CREATED:20180322T033554Z
LAST-MODIFIED:20220219T011051Z
UID:3858-1527620400-1527624900@cohassetscoutsbsa.org
SUMMARY:Troop Meeting
DESCRIPTION:PL Elections\nPedix Island Planning
URL:https://cohassetscoutsbsa.org/event/troop-meeting-69/
LOCATION:Deer Hill Scout Locker\, 208 Sohier Street\, Cohasset\, MA\, 02025\, United States
END:VEVENT
BEGIN:VEVENT
DTSTART;TZID=America/New_York:20180528T100000
DTEND;TZID=America/New_York:20180528T130000
DTSTAMP:20260422T200601
CREATED:20180322T033513Z
LAST-MODIFIED:20220219T011051Z
UID:3855-1527501600-1527512400@cohassetscoutsbsa.org
SUMMARY:Memorial Day Parade
DESCRIPTION:
URL:https://cohassetscoutsbsa.org/event/memorial-day-parade-2/
LOCATION:Music Circus\, 130 Sohier Street\, Coahsset\, MA\, 02025\, United States
END:VEVENT
BEGIN:VEVENT
DTSTART;TZID=America/New_York:20180524T190000
DTEND;TZID=America/New_York:20180524T201500
DTSTAMP:20260422T200601
CREATED:20180322T033338Z
LAST-MODIFIED:20220219T011051Z
UID:3853-1527188400-1527192900@cohassetscoutsbsa.org
SUMMARY:Troop Meeting
DESCRIPTION:SPL Elections\nThe Great Racoon Schism\nAdvancement\nMilk Create
URL:https://cohassetscoutsbsa.org/event/troop-meeting-68/
LOCATION:Deer Hill Scout Locker\, 208 Sohier Street\, Cohasset\, MA\, 02025\, United States
END:VEVENT
BEGIN:VEVENT
DTSTART;TZID=America/New_York:20180520T150000
DTEND;TZID=America/New_York:20180520T160000
DTSTAMP:20260422T200601
CREATED:20180514T133643Z
LAST-MODIFIED:20220219T011052Z
UID:3890-1526828400-1526832000@cohassetscoutsbsa.org
SUMMARY:Court of Honor - Tom Olson
DESCRIPTION:
URL:https://cohassetscoutsbsa.org/event/court-of-honor-tom-olson/
LOCATION:St. Anthony’s Parish Center\, 2 Summer Street\, Cohasset\, MA\, 02025\, United States
END:VEVENT
BEGIN:VEVENT
DTSTART;VALUE=DATE:20180519
DTEND;VALUE=DATE:20180522
DTSTAMP:20260422T200601
CREATED:20180322T033254Z
LAST-MODIFIED:20220219T011052Z
UID:3850-1526695200-1526867999@cohassetscoutsbsa.org
SUMMARY:Blue Hills Camping Trip
DESCRIPTION:
URL:https://cohassetscoutsbsa.org/event/blue-hills-camping-trip/
LOCATION:Camp Sayre\, 411 Unquity Road\, Milton\, MA\, 02186\, United States
END:VEVENT
BEGIN:VEVENT
DTSTART;TZID=America/New_York:20180515T190000
DTEND;TZID=America/New_York:20180515T201500
DTSTAMP:20260422T200601
CREATED:20180322T032908Z
LAST-MODIFIED:20220219T011052Z
UID:3848-1526410800-1526415300@cohassetscoutsbsa.org
SUMMARY:Blue Hills Troop Meeting
DESCRIPTION:Blue Hills Planning\nAdvancement\nLashings\nBlob Tag
URL:https://cohassetscoutsbsa.org/event/troop-meeting-67/
LOCATION:Deer Hill Scout Locker\, 208 Sohier Street\, Cohasset\, MA\, 02025\, United States
END:VEVENT
BEGIN:VEVENT
DTSTART;TZID=America/New_York:20180510T190000
DTEND;TZID=America/New_York:20180510T201500
DTSTAMP:20260422T200601
CREATED:20180322T032834Z
LAST-MODIFIED:20220219T011111Z
UID:3846-1525978800-1525983300@cohassetscoutsbsa.org
SUMMARY:Troop Meeting
DESCRIPTION:PLC Meeting at conclusion of regular meeting
URL:https://cohassetscoutsbsa.org/event/troop-meeting-66/
LOCATION:Deer Hill Scout Locker\, 208 Sohier Street\, Cohasset\, MA\, 02025\, United States
END:VEVENT
BEGIN:VEVENT
DTSTART;TZID=America/New_York:20180503T190000
DTEND;TZID=America/New_York:20180503T201500
DTSTAMP:20260422T200601
CREATED:20180322T032732Z
LAST-MODIFIED:20220219T011111Z
UID:3844-1525374000-1525378500@cohassetscoutsbsa.org
SUMMARY:Troop Meeting - Boards of Review
DESCRIPTION:
URL:https://cohassetscoutsbsa.org/event/troop-meeting-boards-of-review/
LOCATION:Deer Hill Scout Locker\, 208 Sohier Street\, Cohasset\, MA\, 02025\, United States
END:VEVENT
BEGIN:VEVENT
DTSTART;TZID=America/New_York:20180428T110000
DTEND;TZID=America/New_York:20180429T120000
DTSTAMP:20260422T200601
CREATED:20180322T032635Z
LAST-MODIFIED:20220219T011111Z
UID:3840-1524913200-1525003200@cohassetscoutsbsa.org
SUMMARY:Wheelwright Camping Trip
DESCRIPTION:
URL:https://cohassetscoutsbsa.org/event/wheelwright-camping-trip-2/
LOCATION:Arthur Lehr Camp\, 200 N Main St\, Cohasset\, 02025\, United States
END:VEVENT
BEGIN:VEVENT
DTSTART;TZID=America/New_York:20180426T190000
DTEND;TZID=America/New_York:20180426T201500
DTSTAMP:20260422T200601
CREATED:20180322T032441Z
LAST-MODIFIED:20220219T011111Z
UID:3838-1524769200-1524773700@cohassetscoutsbsa.org
SUMMARY:Troop Meeting
DESCRIPTION:
URL:https://cohassetscoutsbsa.org/event/troop-meeting-65/
LOCATION:Deer Hill Scout Locker\, 208 Sohier Street\, Cohasset\, MA\, 02025\, United States
END:VEVENT
BEGIN:VEVENT
DTSTART;TZID=America/New_York:20180412T190000
DTEND;TZID=America/New_York:20180412T201500
DTSTAMP:20260422T200601
CREATED:20180322T032403Z
LAST-MODIFIED:20220219T011111Z
UID:3836-1523559600-1523564100@cohassetscoutsbsa.org
SUMMARY:Troop Meeting
DESCRIPTION:PLC Meeting at conclusion of regular meeting
URL:https://cohassetscoutsbsa.org/event/troop-meeting-64/
LOCATION:Deer Hill Scout Locker\, 208 Sohier Street\, Cohasset\, MA\, 02025\, United States
END:VEVENT
BEGIN:VEVENT
DTSTART;TZID=America/New_York:20180405T190000
DTEND;TZID=America/New_York:20180405T201500
DTSTAMP:20260422T200601
CREATED:20180322T032303Z
LAST-MODIFIED:20220219T011111Z
UID:3834-1522954800-1522959300@cohassetscoutsbsa.org
SUMMARY:Troop Meeting - New Scout Parent(s) Attend
DESCRIPTION:
URL:https://cohassetscoutsbsa.org/event/troop-meeting-new-scout-parents-attend/
LOCATION:Deer Hill Scout Locker\, 208 Sohier Street\, Cohasset\, MA\, 02025\, United States
END:VEVENT
BEGIN:VEVENT
DTSTART;VALUE=DATE:20180402
DTEND;VALUE=DATE:20180404
DTSTAMP:20260422T200601
CREATED:20180322T032136Z
LAST-MODIFIED:20220219T011111Z
UID:3831-1522634400-1522720799@cohassetscoutsbsa.org
SUMMARY:Cub Scout Crossover
DESCRIPTION:
URL:https://cohassetscoutsbsa.org/event/cub-scout-crossover/
LOCATION:Deer Hill School\, 208 Sohier Street\, Cohasset\, MA\, 02025\, United States
END:VEVENT
BEGIN:VEVENT
DTSTART;TZID=America/New_York:20180324T074500
DTEND;TZID=America/New_York:20180324T140000
DTSTAMP:20260422T200601
CREATED:20171130T150751Z
LAST-MODIFIED:20220219T011111Z
UID:3794-1521877500-1521900000@cohassetscoutsbsa.org
SUMMARY:Merit Badge University (MBU)
DESCRIPTION:
URL:https://cohassetscoutsbsa.org/event/merit-badge-university-mbu-6/
LOCATION:Southeastern VoTech High School\, 250 Foundry Street \, South Easton\, MA\, 02375\, United States
END:VEVENT
BEGIN:VEVENT
DTSTART;TZID=America/New_York:20180310T160000
DTEND;TZID=America/New_York:20180310T170000
DTSTAMP:20260422T200601
CREATED:20180130T112917Z
LAST-MODIFIED:20220219T011111Z
UID:3823-1520697600-1520701200@cohassetscoutsbsa.org
SUMMARY:Court of Honor
DESCRIPTION:
URL:https://cohassetscoutsbsa.org/event/court-of-honor/
LOCATION:St. Anthony’s Parish Center\, 2 Summer Street\, Cohasset\, MA\, 02025\, United States
END:VEVENT
BEGIN:VEVENT
DTSTART;TZID=America/New_York:20180310T074500
DTEND;TZID=America/New_York:20180310T140000
DTSTAMP:20260422T200601
CREATED:20171130T150710Z
LAST-MODIFIED:20220219T011111Z
UID:3792-1520667900-1520690400@cohassetscoutsbsa.org
SUMMARY:Merit Badge University (MBU)
DESCRIPTION:
URL:https://cohassetscoutsbsa.org/event/merit-badge-university-mbu-5/
LOCATION:Southeastern VoTech High School\, 250 Foundry Street \, South Easton\, MA\, 02375\, United States
END:VEVENT
BEGIN:VEVENT
DTSTART;TZID=America/New_York:20180303T074500
DTEND;TZID=America/New_York:20180303T140000
DTSTAMP:20260422T200601
CREATED:20171130T150629Z
LAST-MODIFIED:20220219T011111Z
UID:3790-1520063100-1520085600@cohassetscoutsbsa.org
SUMMARY:Merit Badge University (MBU)
DESCRIPTION:
URL:https://cohassetscoutsbsa.org/event/merit-badge-university-mbu-4/
LOCATION:Southeastern VoTech High School\, 250 Foundry Street \, South Easton\, MA\, 02375\, United States
END:VEVENT
BEGIN:VEVENT
DTSTART;TZID=America/New_York:20180126T190000
DTEND;TZID=America/New_York:20180127T153000
DTSTAMP:20260422T200601
CREATED:20171130T125306Z
LAST-MODIFIED:20220219T011111Z
UID:3748-1516993200-1517067000@cohassetscoutsbsa.org
SUMMARY:2018 Klondike Derby
DESCRIPTION:
URL:https://cohassetscoutsbsa.org/event/klondike-derby-2/
LOCATION:Camp Squanto\, 200 Cuttersfield Rd.\, Plymouth\, MA\, 02360\, United States
END:VEVENT
BEGIN:VEVENT
DTSTART;TZID=America/New_York:20180112T170000
DTEND;TZID=America/New_York:20180114T170000
DTSTAMP:20260422T200601
CREATED:20171130T124917Z
LAST-MODIFIED:20220219T011111Z
UID:3746-1515776400-1515949200@cohassetscoutsbsa.org
SUMMARY:Ski Trip
DESCRIPTION:The Troop will be having a Ski Trip over Martin Luther King Day weekend again this year.  Participants will leave Cohasset on Friday afternoon/evening and drive to Greenwood\, Maine\, where we will be staying at the American Legion hall.  We will ski all day Saturday\, dine Chez Legion and return for skiing on Sunday until early afternoon.  We expect to be home by early evening on Sunday. \nThere will be a cost for this trip which will vary based on the number of participants.  In past years\, the troop has asked for $60 to cover transport\, food\, lodging and two days of lift tickets.  Equipment rentals and available lessons are extra. \nMount Abram is well-suited for a Troop ski trip.  It is a family and group-oriented facility with most trails ending at a common point.  Unlike larger mountains\, it is easy to keep track of our participants. \nAll levels of ability are welcome\, but brand-new skiers should come with a parent or families make an arrangement with another adult who is willing to work with them on the hills. \nWe need adults to drive and who are willing to ski with the scouts and provide a general presence on the mountain.  Neither Vince Thornton nor I will be able to attend\, so we will need someone to manage the paperwork\, and someone willing to manage the meals. \nIf you are a scout and interested in this trip\, please respond to this email.  This will not be a “binding” commitment\, but a general headcount. \nAdults who would like to attend should also respond directly to this email.  We really need a commitment for someone to coordinate the trip (manage the paperwork\, call the shots\, drink a lot of coffee) soon.  Frankly\, Sarah Peacock\, who coordinates our arrangements\, does it so thoroughly that the check-in and equipment coordination is easy. \nPlease email me with questions. \nRDH
URL:https://cohassetscoutsbsa.org/event/ski-trip-2/
LOCATION:Mt. Abram\, 308 Howe Hill Road\, Greenwood\, ME\, 04255 \, United States
END:VEVENT
BEGIN:VEVENT
DTSTART;TZID=America/New_York:20171212T190000
DTEND;TZID=America/New_York:20171212T200000
DTSTAMP:20260422T200601
CREATED:20171130T123256Z
LAST-MODIFIED:20220219T011111Z
UID:3732-1513105200-1513108800@cohassetscoutsbsa.org
SUMMARY:Court of Awards
DESCRIPTION:Please join Boy Scout Troop 28 Cohasset for its COURT OF AWARDS \non \nTuesday\, December 12th at 7:00PM \nat \nSt. Anthony’s Parish Center \n10 Summer Street \nCohasset\, MA \nFamilies welcome and encouraged to attend to celebrate the achievements of our scouts \nRefreshments and desserts will follow \nAll Scouts should wear full Class A Uniforms (with blue Troop 28 neckerchief) and should arrive 10 minutes early
URL:https://cohassetscoutsbsa.org/event/court-of-awards-5/
LOCATION:St. Anthony’s Parish Center\, 2 Summer Street\, Cohasset\, MA\, 02025\, United States
END:VEVENT
BEGIN:VEVENT
DTSTART;TZID=America/New_York:20171207T190000
DTEND;TZID=America/New_York:20171207T201500
DTSTAMP:20260422T200601
CREATED:20171130T124015Z
LAST-MODIFIED:20220219T011111Z
UID:3740-1512673200-1512677700@cohassetscoutsbsa.org
SUMMARY:Troop Meeting
DESCRIPTION:Patrol elections
URL:https://cohassetscoutsbsa.org/event/troop-meeting-63/
LOCATION:Deer Hill Scout Locker\, 208 Sohier Street\, Cohasset\, MA\, 02025\, United States
END:VEVENT
BEGIN:VEVENT
DTSTART;TZID=America/New_York:20171130T190000
DTEND;TZID=America/New_York:20171130T201500
DTSTAMP:20260422T200601
CREATED:20171130T123922Z
LAST-MODIFIED:20220219T011111Z
UID:3738-1512068400-1512072900@cohassetscoutsbsa.org
SUMMARY:Troop Meeting
DESCRIPTION:Please bring your scout handbooks we only have 2 meetings until the court of awards. \nThe meeting after next\, 12/7\, will be our patrol elections.
URL:https://cohassetscoutsbsa.org/event/troop-meeting-62/
LOCATION:Deer Hill Scout Locker\, 208 Sohier Street\, Cohasset\, MA\, 02025\, United States
END:VEVENT
BEGIN:VEVENT
DTSTART;TZID=America/New_York:20171116T190000
DTEND;TZID=America/New_York:20171116T201500
DTSTAMP:20260422T200601
CREATED:20171130T123707Z
LAST-MODIFIED:20220219T011111Z
UID:3736-1510858800-1510863300@cohassetscoutsbsa.org
SUMMARY:Troop Meeting
DESCRIPTION:Please bring you books. \nThere will be a PLC meeting after.
URL:https://cohassetscoutsbsa.org/event/troop-meeting-61/
LOCATION:Deer Hill Scout Locker\, 208 Sohier Street\, Cohasset\, MA\, 02025\, United States
END:VEVENT
BEGIN:VEVENT
DTSTART;TZID=America/New_York:20171104T080000
DTEND;TZID=America/New_York:20171105T120000
DTSTAMP:20260422T200601
CREATED:20170815T105632Z
LAST-MODIFIED:20220219T011111Z
UID:3701-1509782400-1509883200@cohassetscoutsbsa.org
SUMMARY:Wheelwright
DESCRIPTION:
URL:https://cohassetscoutsbsa.org/event/wheelwright-2/
LOCATION:Arthur Lehr Camp\, 200 N Main St\, Cohasset\, 02025\, United States
END:VEVENT
BEGIN:VEVENT
DTSTART;TZID=America/New_York:20171102T190000
DTEND;TZID=America/New_York:20171102T201500
DTSTAMP:20260422T200601
CREATED:20171130T123555Z
LAST-MODIFIED:20220219T011111Z
UID:3734-1509649200-1509653700@cohassetscoutsbsa.org
SUMMARY:Troop Meeting
DESCRIPTION:Please come prepared to plan for Wheelwright. Please also bring you Handbooks.
URL:https://cohassetscoutsbsa.org/event/troop-meeting-60/
LOCATION:Deer Hill Scout Locker\, 208 Sohier Street\, Cohasset\, MA\, 02025\, United States
END:VEVENT
BEGIN:VEVENT
DTSTART;TZID=America/New_York:20171020T080000
DTEND;TZID=America/New_York:20171022T170000
DTSTAMP:20260422T200601
CREATED:20170815T105550Z
LAST-MODIFIED:20220219T011111Z
UID:3699-1508486400-1508691600@cohassetscoutsbsa.org
SUMMARY:Camporee
DESCRIPTION:
URL:https://cohassetscoutsbsa.org/event/camporee-2/
LOCATION:MA
END:VEVENT
END:VCALENDAR