BEGIN:VCALENDAR
VERSION:2.0
PRODID:-//Cohasset Scouts BSA - ECPv6.15.12.2//NONSGML v1.0//EN
CALSCALE:GREGORIAN
METHOD:PUBLISH
X-ORIGINAL-URL:https://cohassetscoutsbsa.org
X-WR-CALDESC:Events for Cohasset Scouts BSA
REFRESH-INTERVAL;VALUE=DURATION:PT1H
X-Robots-Tag:noindex
X-PUBLISHED-TTL:PT1H
BEGIN:VTIMEZONE
TZID:America/New_York
BEGIN:DAYLIGHT
TZOFFSETFROM:-0500
TZOFFSETTO:-0400
TZNAME:EDT
DTSTART:20170312T070000
END:DAYLIGHT
BEGIN:STANDARD
TZOFFSETFROM:-0400
TZOFFSETTO:-0500
TZNAME:EST
DTSTART:20171105T060000
END:STANDARD
BEGIN:DAYLIGHT
TZOFFSETFROM:-0500
TZOFFSETTO:-0400
TZNAME:EDT
DTSTART:20180311T070000
END:DAYLIGHT
BEGIN:STANDARD
TZOFFSETFROM:-0400
TZOFFSETTO:-0500
TZNAME:EST
DTSTART:20181104T060000
END:STANDARD
BEGIN:DAYLIGHT
TZOFFSETFROM:-0500
TZOFFSETTO:-0400
TZNAME:EDT
DTSTART:20190310T070000
END:DAYLIGHT
BEGIN:STANDARD
TZOFFSETFROM:-0400
TZOFFSETTO:-0500
TZNAME:EST
DTSTART:20191103T060000
END:STANDARD
BEGIN:DAYLIGHT
TZOFFSETFROM:-0500
TZOFFSETTO:-0400
TZNAME:EDT
DTSTART:20200308T070000
END:DAYLIGHT
BEGIN:STANDARD
TZOFFSETFROM:-0400
TZOFFSETTO:-0500
TZNAME:EST
DTSTART:20201101T060000
END:STANDARD
END:VTIMEZONE
BEGIN:VEVENT
DTSTART;TZID=America/New_York:20190613T190000
DTEND;TZID=America/New_York:20190613T201500
DTSTAMP:20260422T170011
CREATED:20190506T131526Z
LAST-MODIFIED:20220219T011027Z
UID:4271-1560452400-1560456900@cohassetscoutsbsa.org
SUMMARY:Troop Meeting
DESCRIPTION:
URL:https://cohassetscoutsbsa.org/event/troop-meeting-81/
LOCATION:Deer Hill Scout Locker\, 208 Sohier Street\, Cohasset\, MA\, 02025\, United States
END:VEVENT
BEGIN:VEVENT
DTSTART;TZID=America/New_York:20190530T190000
DTEND;TZID=America/New_York:20190530T201500
DTSTAMP:20260422T170011
CREATED:20190506T131408Z
LAST-MODIFIED:20220219T011027Z
UID:4267-1559242800-1559247300@cohassetscoutsbsa.org
SUMMARY:Troop Meeting
DESCRIPTION:
URL:https://cohassetscoutsbsa.org/event/troop-meeting-79/
LOCATION:Deer Hill Scout Locker\, 208 Sohier Street\, Cohasset\, MA\, 02025\, United States
END:VEVENT
BEGIN:VEVENT
DTSTART;TZID=America/New_York:20190527T101500
DTEND;TZID=America/New_York:20190527T130000
DTSTAMP:20260422T170011
CREATED:20190506T131330Z
LAST-MODIFIED:20220219T011028Z
UID:4265-1558952100-1558962000@cohassetscoutsbsa.org
SUMMARY:Memorial Day Parade
DESCRIPTION:The expectation of the Troop is that if you are in town that day\, you will participate\, either with the troop or with one of the bands.  It is an important civic event for which the Troop has always shown great support. \nAssembly is at the Music Circus parking lot.  Please be there by 10:15 am.  Wear your best Class A uniform (shirt\, neckerchief and slide\, Troop 28 cap\, scout pants\, dark shoes or boots – if you don’t have scout pants\, khakis will do.)  Please be prepared for the weather\, as it has been unstable lately – a water bottle\, sunscreen or a rain jacket as appropriate. \nLet me or Will Seavey know if you have any questions. \nMr. Thornton
URL:https://cohassetscoutsbsa.org/event/memorial-day-parade-3/
LOCATION:Music Circus\, 130 Sohier Street\, Coahsset\, MA\, 02025\, United States
END:VEVENT
BEGIN:VEVENT
DTSTART;TZID=America/New_York:20190523T190000
DTEND;TZID=America/New_York:20190523T201500
DTSTAMP:20260422T170011
CREATED:20190506T131217Z
LAST-MODIFIED:20220219T011028Z
UID:4263-1558638000-1558642500@cohassetscoutsbsa.org
SUMMARY:Troop Meeting
DESCRIPTION:
URL:https://cohassetscoutsbsa.org/event/troop-meeting-78/
LOCATION:Deer Hill Scout Locker\, 208 Sohier Street\, Cohasset\, MA\, 02025\, United States
END:VEVENT
BEGIN:VEVENT
DTSTART;TZID=America/New_York:20190518T080000
DTEND;TZID=America/New_York:20190518T130000
DTSTAMP:20260422T170011
CREATED:20190514T174120Z
LAST-MODIFIED:20220219T011028Z
UID:4341-1558166400-1558184400@cohassetscoutsbsa.org
SUMMARY:Garden Club Plant Sale
DESCRIPTION:The Cohasset Garden Club has it’s annual plant sale this Saturday\, May 18th. The Troop has been providing volunteers to help move plants around and carry plants to cars for those that have made purchases. \nThe hours worked count for service hours needed for advancement. \n  \nTimes slots for volunteers (you are allowed to sign up for as many slots as you would like): \n\n8:00-9:00\n9:00-10:00\n10:00-11:00\n11:00-12:00\n12:00-1:00
URL:https://cohassetscoutsbsa.org/event/garden-club-plant-sale/
LOCATION:Cohasset Historical Society\, 106 South Main Street\, Cohasset\, MA\, 02025\, United States
END:VEVENT
BEGIN:VEVENT
DTSTART;TZID=America/New_York:20190517T190000
DTEND;TZID=America/New_York:20190517T201500
DTSTAMP:20260422T170011
CREATED:20190506T131138Z
LAST-MODIFIED:20220219T011028Z
UID:4261-1558119600-1558124100@cohassetscoutsbsa.org
SUMMARY:Troop Meeting
DESCRIPTION:
URL:https://cohassetscoutsbsa.org/event/troop-meeting-77/
LOCATION:Deer Hill Scout Locker\, 208 Sohier Street\, Cohasset\, MA\, 02025\, United States
END:VEVENT
BEGIN:VEVENT
DTSTART;TZID=America/New_York:20190510T180000
DTEND;TZID=America/New_York:20190512T100000
DTSTAMP:20260422T170011
CREATED:20190506T131057Z
LAST-MODIFIED:20220219T011028Z
UID:4259-1557511200-1557655200@cohassetscoutsbsa.org
SUMMARY:Camporee
DESCRIPTION:
URL:https://cohassetscoutsbsa.org/event/camporee-3/
LOCATION:Camp Squanto\, 200 Cuttersfield Rd.\, Plymouth\, MA\, 02360\, United States
END:VEVENT
BEGIN:VEVENT
DTSTART;TZID=America/New_York:20190509T190000
DTEND;TZID=America/New_York:20190509T201500
DTSTAMP:20260422T170011
CREATED:20190506T130544Z
LAST-MODIFIED:20220219T011028Z
UID:4257-1557428400-1557432900@cohassetscoutsbsa.org
SUMMARY:Troop Meeting
DESCRIPTION:PLC Meeting
URL:https://cohassetscoutsbsa.org/event/troop-meeting-76/
LOCATION:Deer Hill Scout Locker\, 208 Sohier Street\, Cohasset\, MA\, 02025\, United States
END:VEVENT
BEGIN:VEVENT
DTSTART;TZID=America/New_York:20190201T190000
DTEND;TZID=America/New_York:20190202T190000
DTSTAMP:20260422T170011
CREATED:20190107T144150Z
LAST-MODIFIED:20220219T011028Z
UID:4235-1549047600-1549134000@cohassetscoutsbsa.org
SUMMARY:2019 Klondike Derby
DESCRIPTION:
URL:https://cohassetscoutsbsa.org/event/2019-klondike-derby/
LOCATION:Camp Squanto\, 200 Cuttersfield Rd.\, Plymouth\, MA\, 02360\, United States
END:VEVENT
BEGIN:VEVENT
DTSTART;TZID=America/New_York:20190118T170000
DTEND;TZID=America/New_York:20190120T170000
DTSTAMP:20260422T170011
CREATED:20190107T150615Z
LAST-MODIFIED:20220219T011028Z
UID:4237-1547830800-1548003600@cohassetscoutsbsa.org
SUMMARY:Ski Trip
DESCRIPTION:The annual January\,Troop 28\, Ski Trip to Mount Abram’s is fast approaching. The trip itself is scheduled for Martin Luther King weekend\, January 18th-20th. The overview of the trip includes a trip up to Maine on Friday night. Skiing both Saturday and Sunday. Accomodation’s at a local Legion hall with sleeping arrangements. Returning to Cohasset the evening of Sunday the 20th. Unfortunately\, unlike many of our other adventures . there is a bit of documentation that is needed well before the trip itself. There will be regularly scheduled meeting this Thursday\, January 3rd in which we will be having a separate signup component where we will be facilitating the collection and sorting out all of these documents and collecting payment. This trip is one that is subsidized by the troop event but the troop does not cover all of the fees/expenses. \nThe following documents are attached: \nFor All Scouts/Parents:\n1. BSA Activity Consent Form\n2. Troop 28 Sign-up Form \nFor Scouts/Parents Renting Equipment Only:\n3. Classify Yourself Document (Type I\, II\, III)\n4. Mount Abram Ski and Snowboard Rental Form (fill in parent’s personal info\, Ski and/or Snowboard Info\, and Sales and Payment sections\, and have all of your skiers/boarders sign Equipment Rental & Liability Release Agreement) \n BSA Activity Consent Form-1.pdf \n Untitled attachment 00009.docx \n Classify Yourself Document (Type I\, II\, III)(4).pdf \n Mt Abrams Rental Form 2019.pdf
URL:https://cohassetscoutsbsa.org/event/ski-trip-3/
LOCATION:Mt. Abram\, 308 Howe Hill Road\, Greenwood\, ME\, 04255 \, United States
END:VEVENT
BEGIN:VEVENT
DTSTART;TZID=America/New_York:20181218T190000
DTEND;TZID=America/New_York:20181218T200000
DTSTAMP:20260422T170011
CREATED:20181201T160703Z
LAST-MODIFIED:20220219T011051Z
UID:4220-1545159600-1545163200@cohassetscoutsbsa.org
SUMMARY:Court of Awards
DESCRIPTION:
URL:https://cohassetscoutsbsa.org/event/court-of-awards-7/
LOCATION:St. Anthony’s Parish Center\, 2 Summer Street\, Cohasset\, MA\, 02025\, United States
END:VEVENT
BEGIN:VEVENT
DTSTART;TZID=America/New_York:20181211T190000
DTEND;TZID=America/New_York:20181211T201500
DTSTAMP:20260422T170011
CREATED:20181201T160635Z
LAST-MODIFIED:20220219T011051Z
UID:4218-1544554800-1544559300@cohassetscoutsbsa.org
SUMMARY:Troop Meeting
DESCRIPTION:
URL:https://cohassetscoutsbsa.org/event/troop-meeting-75/
LOCATION:Deer Hill Scout Locker\, 208 Sohier Street\, Cohasset\, MA\, 02025\, United States
END:VEVENT
BEGIN:VEVENT
DTSTART;TZID=America/New_York:20181206T190000
DTEND;TZID=America/New_York:20181206T201500
DTSTAMP:20260422T170011
CREATED:20181201T160609Z
LAST-MODIFIED:20220219T011051Z
UID:4216-1544122800-1544127300@cohassetscoutsbsa.org
SUMMARY:Troop Meeting
DESCRIPTION:
URL:https://cohassetscoutsbsa.org/event/troop-meeting-74/
LOCATION:Deer Hill Scout Locker\, 208 Sohier Street\, Cohasset\, MA\, 02025\, United States
END:VEVENT
BEGIN:VEVENT
DTSTART;TZID=America/New_York:20181109T190000
DTEND;TZID=America/New_York:20181109T201500
DTSTAMP:20260422T170011
CREATED:20181012T005058Z
LAST-MODIFIED:20220219T011051Z
UID:4050-1541790000-1541794500@cohassetscoutsbsa.org
SUMMARY:Troop Meeting
DESCRIPTION:
URL:https://cohassetscoutsbsa.org/event/troop-meeting-73/
LOCATION:Deer Hill Scout Locker\, 208 Sohier Street\, Cohasset\, MA\, 02025\, United States
END:VEVENT
BEGIN:VEVENT
DTSTART;TZID=America/New_York:20181103T090000
DTEND;TZID=America/New_York:20181104T180000
DTSTAMP:20260422T170011
CREATED:20180822T204957Z
LAST-MODIFIED:20220219T011051Z
UID:3907-1541235600-1541354400@cohassetscoutsbsa.org
SUMMARY:Mount Monadnock
DESCRIPTION:
URL:https://cohassetscoutsbsa.org/event/madnok/
LOCATION:Camp Wanocksett\, 642 Upper Jaffrey Rd.\, Dublin\, NH\, 03444\, United States
END:VEVENT
BEGIN:VEVENT
DTSTART;TZID=America/New_York:20181102T190000
DTEND;TZID=America/New_York:20181102T201500
DTSTAMP:20260422T170011
CREATED:20181012T005040Z
LAST-MODIFIED:20220219T011051Z
UID:4048-1541185200-1541189700@cohassetscoutsbsa.org
SUMMARY:Troop Meeting
DESCRIPTION:
URL:https://cohassetscoutsbsa.org/event/troop-meeting-72/
LOCATION:Deer Hill Scout Locker\, 208 Sohier Street\, Cohasset\, MA\, 02025\, United States
END:VEVENT
BEGIN:VEVENT
DTSTART;TZID=America/New_York:20181025T080000
DTEND;TZID=America/New_York:20181025T170000
DTSTAMP:20260422T170011
CREATED:20181012T004517Z
LAST-MODIFIED:20220219T011051Z
UID:4045-1540454400-1540486800@cohassetscoutsbsa.org
SUMMARY:Troop Meeting
DESCRIPTION:
URL:https://cohassetscoutsbsa.org/event/troop-meeting-71/
LOCATION:MA
END:VEVENT
BEGIN:VEVENT
DTSTART;TZID=America/New_York:20181020T100000
DTEND;TZID=America/New_York:20181021T100000
DTSTAMP:20260422T170011
CREATED:20180822T205502Z
LAST-MODIFIED:20220219T011051Z
UID:3911-1540029600-1540116000@cohassetscoutsbsa.org
SUMMARY:Wheelwright Camping Trip
DESCRIPTION:
URL:https://cohassetscoutsbsa.org/event/wheelwright-3/
LOCATION:Arthur Lehr Camp\, 200 N Main St\, Cohasset\, 02025\, United States
END:VEVENT
BEGIN:VEVENT
DTSTART;TZID=America/New_York:20181018T080000
DTEND;TZID=America/New_York:20181018T170000
DTSTAMP:20260422T170011
CREATED:20181012T003411Z
LAST-MODIFIED:20220219T011051Z
UID:4043-1539849600-1539882000@cohassetscoutsbsa.org
SUMMARY:Troop Meeting
DESCRIPTION:
URL:https://cohassetscoutsbsa.org/event/troop-meeting-70/
LOCATION:MA
END:VEVENT
BEGIN:VEVENT
DTSTART;TZID=America/New_York:20180929T080000
DTEND;TZID=America/New_York:20180930T150000
DTSTAMP:20260422T170011
CREATED:20180822T202537Z
LAST-MODIFIED:20220219T011051Z
UID:3903-1538208000-1538319600@cohassetscoutsbsa.org
SUMMARY:Cape Cod Rail Trail
DESCRIPTION:
URL:https://cohassetscoutsbsa.org/event/ccrt/
LOCATION:Nickerson State Park\, 3488 Main Street\, Brewster\, MA\, 02631\, United States
END:VEVENT
BEGIN:VEVENT
DTSTART;TZID=America/New_York:20180722T100000
DTEND;TZID=America/New_York:20180728T110000
DTSTAMP:20260422T170011
CREATED:20180322T034150Z
LAST-MODIFIED:20220219T011051Z
UID:3867-1532253600-1532775600@cohassetscoutsbsa.org
SUMMARY:Camp Squanto
DESCRIPTION:
URL:https://cohassetscoutsbsa.org/event/camp-squanto-3/
LOCATION:Camp Squanto\, 200 Cuttersfield Rd.\, Plymouth\, MA\, 02360\, United States
END:VEVENT
BEGIN:VEVENT
DTSTART;TZID=America/New_York:20180611T190000
DTEND;TZID=America/New_York:20180611T200000
DTSTAMP:20260422T170011
CREATED:20180322T034029Z
LAST-MODIFIED:20220219T011051Z
UID:3865-1528743600-1528747200@cohassetscoutsbsa.org
SUMMARY:Court of Awards
DESCRIPTION:
URL:https://cohassetscoutsbsa.org/event/court-of-awards-6/
LOCATION:St. Anthony’s Parish Center\, 2 Summer Street\, Cohasset\, MA\, 02025\, United States
END:VEVENT
BEGIN:VEVENT
DTSTART;VALUE=DATE:20180609
DTEND;VALUE=DATE:20180612
DTSTAMP:20260422T170011
CREATED:20180322T033948Z
LAST-MODIFIED:20220219T011051Z
UID:3862-1528509600-1528682399@cohassetscoutsbsa.org
SUMMARY:Peddocks Island Camping Trip
DESCRIPTION:
URL:https://cohassetscoutsbsa.org/event/peddocks-island-camping-trip/
LOCATION:Peddocks Island\, 180 Main Street\, Hull\, MA\, 02045\, United States
END:VEVENT
BEGIN:VEVENT
DTSTART;TZID=America/New_York:20180605T190000
DTEND;TZID=America/New_York:20180605T201500
DTSTAMP:20260422T170012
CREATED:20180322T033640Z
LAST-MODIFIED:20220219T011051Z
UID:3860-1528225200-1528229700@cohassetscoutsbsa.org
SUMMARY:Troop Meeting - Boards of Review
DESCRIPTION:Pedix Island Planning
URL:https://cohassetscoutsbsa.org/event/troop-meeting-boards-of-review-2/
LOCATION:Deer Hill Scout Locker\, 208 Sohier Street\, Cohasset\, MA\, 02025\, United States
END:VEVENT
BEGIN:VEVENT
DTSTART;TZID=America/New_York:20180529T190000
DTEND;TZID=America/New_York:20180529T201500
DTSTAMP:20260422T170012
CREATED:20180322T033554Z
LAST-MODIFIED:20220219T011051Z
UID:3858-1527620400-1527624900@cohassetscoutsbsa.org
SUMMARY:Troop Meeting
DESCRIPTION:PL Elections\nPedix Island Planning
URL:https://cohassetscoutsbsa.org/event/troop-meeting-69/
LOCATION:Deer Hill Scout Locker\, 208 Sohier Street\, Cohasset\, MA\, 02025\, United States
END:VEVENT
BEGIN:VEVENT
DTSTART;TZID=America/New_York:20180528T100000
DTEND;TZID=America/New_York:20180528T130000
DTSTAMP:20260422T170012
CREATED:20180322T033513Z
LAST-MODIFIED:20220219T011051Z
UID:3855-1527501600-1527512400@cohassetscoutsbsa.org
SUMMARY:Memorial Day Parade
DESCRIPTION:
URL:https://cohassetscoutsbsa.org/event/memorial-day-parade-2/
LOCATION:Music Circus\, 130 Sohier Street\, Coahsset\, MA\, 02025\, United States
END:VEVENT
BEGIN:VEVENT
DTSTART;TZID=America/New_York:20180524T190000
DTEND;TZID=America/New_York:20180524T201500
DTSTAMP:20260422T170012
CREATED:20180322T033338Z
LAST-MODIFIED:20220219T011051Z
UID:3853-1527188400-1527192900@cohassetscoutsbsa.org
SUMMARY:Troop Meeting
DESCRIPTION:SPL Elections\nThe Great Racoon Schism\nAdvancement\nMilk Create
URL:https://cohassetscoutsbsa.org/event/troop-meeting-68/
LOCATION:Deer Hill Scout Locker\, 208 Sohier Street\, Cohasset\, MA\, 02025\, United States
END:VEVENT
BEGIN:VEVENT
DTSTART;TZID=America/New_York:20180520T150000
DTEND;TZID=America/New_York:20180520T160000
DTSTAMP:20260422T170012
CREATED:20180514T133643Z
LAST-MODIFIED:20220219T011052Z
UID:3890-1526828400-1526832000@cohassetscoutsbsa.org
SUMMARY:Court of Honor - Tom Olson
DESCRIPTION:
URL:https://cohassetscoutsbsa.org/event/court-of-honor-tom-olson/
LOCATION:St. Anthony’s Parish Center\, 2 Summer Street\, Cohasset\, MA\, 02025\, United States
END:VEVENT
BEGIN:VEVENT
DTSTART;VALUE=DATE:20180519
DTEND;VALUE=DATE:20180522
DTSTAMP:20260422T170012
CREATED:20180322T033254Z
LAST-MODIFIED:20220219T011052Z
UID:3850-1526695200-1526867999@cohassetscoutsbsa.org
SUMMARY:Blue Hills Camping Trip
DESCRIPTION:
URL:https://cohassetscoutsbsa.org/event/blue-hills-camping-trip/
LOCATION:Camp Sayre\, 411 Unquity Road\, Milton\, MA\, 02186\, United States
END:VEVENT
BEGIN:VEVENT
DTSTART;TZID=America/New_York:20180515T190000
DTEND;TZID=America/New_York:20180515T201500
DTSTAMP:20260422T170012
CREATED:20180322T032908Z
LAST-MODIFIED:20220219T011052Z
UID:3848-1526410800-1526415300@cohassetscoutsbsa.org
SUMMARY:Blue Hills Troop Meeting
DESCRIPTION:Blue Hills Planning\nAdvancement\nLashings\nBlob Tag
URL:https://cohassetscoutsbsa.org/event/troop-meeting-67/
LOCATION:Deer Hill Scout Locker\, 208 Sohier Street\, Cohasset\, MA\, 02025\, United States
END:VEVENT
END:VCALENDAR